BEGIN:VCALENDAR
VERSION:2.0
PRODID:-//empfängnis.com - ECPv4.6.2//NONSGML v1.0//EN
CALSCALE:GREGORIAN
METHOD:PUBLISH
X-WR-CALNAME:empfängnis.com
X-ORIGINAL-URL:http://www.xn--empfngnis-y2a.com
X-WR-CALDESC:Events for empfängnis.com
BEGIN:VEVENT
DTSTART;TZID=Europe/Berlin:20161203T083000
DTEND;TZID=Europe/Berlin:20161203T180000
DTSTAMP:20260421T204213
CREATED:20161122T101828Z
LAST-MODIFIED:20161122T102057Z
UID:1239-1480753800-1480788000@www.xn--empfngnis-y2a.com
SUMMARY:NER - Aufbaulehrgang -Salzburg
DESCRIPTION:\n\n\n\nAufbaulehrgang\n\n\nTermine\nA1 – Samstag\, 10.09.2016\, 08:30 – 18:00A2 – Samstag\, 08.10.2016\, 08:30 – 18:00A3 – Samstag\, 05.11.2016\, 08:30 – 18:00A4 – Samstag\, 03.12.2016\, 08:30 – 18:00A5 – Samstag\, 21.01.2017\, 08:30 – 18:00A6 – Samstag\, 11.02.2017\, 08:30 – 18:00A7 – Freitag\, 03.03.2017\, 14:00 – 22:00A7 – Samstag\, 04.03.2017\, 09:00 – 18:00A7 – Sonntag\, 05.03.2017\, 09:00 – 13:00\n\n\nAdresse\n5020 Salzburg\, Eduard Heinrich Straße 2\, Eduard-Heinrich-Haus\n\n\nVeranstalter\nReferat für Ehe und Familie der Erzdiözese Salzburg in Zusammenarbeit mit INER\n\n\nAuskunft\nReferat für Ehe und Familie der Erzdiözese Salzburg\nMag. Maria Eisl\nDreifaltigkeitsgasse 12\n5020 Salzburg\nTel: 0662/879613-12\nmaria.eisl@familie.kirchen.net\nwww.familie.kirchen.net\n\n\nTelefon\n0662/879613-12\n\n\nE-Mail\nmaria.eisl@familie.kirchen.net\n\n\nReferent(en)\nElisabeth Rötzer\, Mag. Maria und Heinrich Eisl\,\nWeihbischof Dr. Andreas Laun\, Richard und Maria Büchsenmeister\, Monika Kastner\, Doris und Michael Szedlacek\, Lic. rer. Maria Prügl\n\n\nBesonderes\nAnmeldung unbedingt erforderlich \nPauschalbeitrag für neun Studientage:\n€ 250\,– pro Person\n€ 320\,– pro Ehepaar\nzzgl. Unkosten für Kursmaterial pro Person € 48\,– \nDie erste Hälfte des Kursbeitrages ist zum Ausbildungsbeginn zu entrichten. Die zweite Hälfte des Kursbeitrages im Jänner 2017. Die Mahlzeiten sind direkt vor Ort zu bezahlen\, ebenso die Unterbringungskosten beim Abschlusswochenende.\nDas Abschlusswochenende findet im Gasthof Jägerwirt\, 5330 Fuschl am See\, Ellmaustr. 53 statt. \nWährend des Seminars wird auch Kinderbetreuung angeboten.\n\n\n\n
URL:http://www.xn--empfngnis-y2a.com/veranstaltung/ner-aufbaulehrgang-salzburg/
LOCATION:Eduard Heinrich Straße 2\, Eduard-Heinrich-Haus\, Salzburg\, 5020\, Österreich
GEO:47.8051393;13.0380686
X-APPLE-STRUCTURED-LOCATION;VALUE=URI;X-ADDRESS=Eduard Heinrich Straße 2 Eduard-Heinrich-Haus Salzburg 5020 Österreich;X-APPLE-RADIUS=500;X-TITLE=Eduard Heinrich Straße 2\, Eduard-Heinrich-Haus:geo:13.0380686,47.8051393
END:VEVENT
END:VCALENDAR