BEGIN:VCALENDAR
VERSION:2.0
PRODID:-//empfängnis.com - ECPv4.6.2//NONSGML v1.0//EN
CALSCALE:GREGORIAN
METHOD:PUBLISH
X-WR-CALNAME:empfängnis.com
X-ORIGINAL-URL:http://www.xn--empfngnis-y2a.com
X-WR-CALDESC:Events for empfängnis.com
BEGIN:VEVENT
DTSTART;TZID=Europe/Berlin:20161007T090000
DTEND;TZID=Europe/Berlin:20161007T103000
DTSTAMP:20260422T033147
CREATED:20160628T184520Z
LAST-MODIFIED:20160628T184520Z
UID:985-1475830800-1475836200@www.xn--empfngnis-y2a.com
SUMMARY:NATÜRLICHEN EMPFÄNGNISREGELUNG (NER) - Warum sie es wert ist\, angewendet zu werden!
DESCRIPTION:
URL:http://www.xn--empfngnis-y2a.com/veranstaltung/natuerlichen-empfaengnisregelung-ner-warum-sie-es-wert-ist-angewendet-zu-werden/
END:VEVENT
END:VCALENDAR