BEGIN:VCALENDAR
VERSION:2.0
PRODID:-//empfängnis.com - ECPv4.6.2//NONSGML v1.0//EN
CALSCALE:GREGORIAN
METHOD:PUBLISH
X-WR-CALNAME:empfängnis.com
X-ORIGINAL-URL:http://www.xn--empfngnis-y2a.com
X-WR-CALDESC:Events for empfängnis.com
BEGIN:VEVENT
DTSTART;TZID=Europe/Berlin:20160304T190000
DTEND;TZID=Europe/Berlin:20160304T210000
DTSTAMP:20260422T052332
CREATED:20160229T193753Z
LAST-MODIFIED:20160229T202831Z
UID:648-1457118000-1457125200@www.xn--empfngnis-y2a.com
SUMMARY:Natürliche Empfängnisregelung - Grundkurs
DESCRIPTION:
URL:http://www.xn--empfngnis-y2a.com/veranstaltung/natuerliche-empfaengnisregelung-grundkurs-2/
LOCATION:Kirchengasse 4\, Graz\, 8010\, Österreich
GEO:47.081383;15.4397509
X-APPLE-STRUCTURED-LOCATION;VALUE=URI;X-ADDRESS=Kirchengasse 4 Graz 8010 Österreich;X-APPLE-RADIUS=500;X-TITLE=Kirchengasse 4:geo:15.4397509,47.081383
ORGANIZER;CN="Edelsbrunner%20Elisabeth":MAILTO:elisabeth.edelsbrunner@gmx.net
END:VEVENT
END:VCALENDAR