BEGIN:VCALENDAR
VERSION:2.0
PRODID:-//empfängnis.com - ECPv4.6.2//NONSGML v1.0//EN
CALSCALE:GREGORIAN
METHOD:PUBLISH
X-WR-CALNAME:empfängnis.com
X-ORIGINAL-URL:http://www.xn--empfngnis-y2a.com
X-WR-CALDESC:Events for empfängnis.com
BEGIN:VEVENT
DTSTART;TZID=Europe/Berlin:20161126T090000
DTEND;TZID=Europe/Berlin:20161126T180000
DTSTAMP:20260422T000407
CREATED:20161122T101428Z
LAST-MODIFIED:20161122T101952Z
UID:1236-1480150800-1480183200@www.xn--empfngnis-y2a.com
SUMMARY:NER\, Aufbaulehrgang Wien
DESCRIPTION:\n\n\nKursart\nA-Kurs\n\n\nTermine\nA1 – Samstag\, 01.10.2016\, 09:00 – 18:00A2 – Samstag\, 22.10.2016\, 09:00 – 18:00A3 – Samstag\, 26.11.2016\, 09:00 – 18:00A4 – Samstag\, 14.01.2017\, 09:00 – 18:00A5 – Samstag\, 18.02.2017\, 09:00 – 18:00A6 – Samstag\, 11.03.2017\, 09:00 – 18:00A7 – Samstag\, 01.04.2017\, 09:00 – 22:00A7 – Sonntag\, 02.04.2017\, 09:00 – 18:00\n\n\nAdresse\n1010 Wien\, Spiegelgasse 3\, Mezzanin\, Institut für Ehe und Familie\n\n\nVeranstalter\nINER\n\n\nAuskunft\nund Anmeldung:\nFamilie Weinlich\, Donaufelder Str. 40/1/3\, 1210 Wien\, Tel.: 01/272 13 52\, email: inerwien@hotmail.com\n\n\nReferent(en)\nElisabeth und Josef Weinlich\, Dr. med. Kroboth-Svoboda\, Teil 7 auch mit Elisabeth Rötzer\, INER-Präsidentin\n\n\nBesonderes\nAnmeldung unbedingt bei Familie Weinlich erforderlich!\nKursbeitrag: (inkl. umfangreiches Kursmaterial pro Person)\nFür Nichtmitglieder: Einzelperson € 300\,– ; Ehepaar € 400\,–\nFür INER Mitglieder: Einzelperson € 220.–\, Ehepaar € 320\,– (Ehepaar gilt als ein INER-Mitglied\, siehe www.iner.org)\nBitte zahlen Sie den Betrag auf das INER Konto in Österreich ein (Ratenzahlung und Ermäßigung auf Anfrage):\nInst. f. Natürl. Empfängnisregelung Prof. Dr. J.Rötzer\nAllgemeine Sparkasse Oberösterreich\, Bank AG\nIBAN: AT12 2032 0061 0001 0840\n\n\n\n
URL:http://www.xn--empfngnis-y2a.com/veranstaltung/natuerliche-empfaengnisregelung-a-kurs-wien/
LOCATION:Spiegelgasse 3\, Mezzanin\, Wien\, Wien\, 1010\, Österreich
GEO:48.2082647;16.3739206
X-APPLE-STRUCTURED-LOCATION;VALUE=URI;X-ADDRESS=Spiegelgasse 3 Mezzanin Wien Wien 1010 Österreich;X-APPLE-RADIUS=500;X-TITLE=Spiegelgasse 3\, Mezzanin:geo:16.3739206,48.2082647
END:VEVENT
END:VCALENDAR