BEGIN:VCALENDAR
VERSION:2.0
PRODID:-//empfängnis.com - ECPv4.6.2//NONSGML v1.0//EN
CALSCALE:GREGORIAN
METHOD:PUBLISH
X-WR-CALNAME:empfängnis.com
X-ORIGINAL-URL:http://www.xn--empfngnis-y2a.com
X-WR-CALDESC:Events for empfängnis.com
BEGIN:VEVENT
DTSTART;TZID=Europe/Berlin:20180407T090000
DTEND;TZID=Europe/Berlin:20180407T180000
DTSTAMP:20260421T121311
CREATED:20170616T144451Z
LAST-MODIFIED:20170616T144502Z
UID:1788-1523091600-1523124000@www.xn--empfngnis-y2a.com
SUMMARY:Mutter-Tochter-Tag
DESCRIPTION:Als Tochter mit der Mutter ins Gespräch kommen\nDas Gespräch\, der Schlüssel für eine gute Beziehung – auch in der Jugendzeit! \nKursinhalt: Impulsvorträge\, Workshops\, Kreativstation und Lobpreis … Themen: Die Sprache meines Körpers entdecken / Selbstannahme / Identität als Frau / Freundschaft / Heimat Familie – Loslösung / Pubertät – Zeit der Emotionen & Veränderungen / Sexualität / Partnerschaft / Glaube \nReferentin: Dr. Barbara M. Sauberer\, Familientrainerin\, zertiﬁzierte INER-Mitarbeiterin und Biologin \nKosten: € 35\,00 inkl. Kursunterlagen (ohne Mittagessen) \nZielgruppe: Mutter mit Tochter  im Alter von 12-16 Jahren \nDatum. Samstag\, 7.4.2018; 9-18:00 \nAnmeldung und Information: Angela Hiesinger\, T: 02742 324 3339 oder E: a.hiesinger@kirche.at \n
URL:http://www.xn--empfngnis-y2a.com/veranstaltung/mutter-tochter-tag/
LOCATION:Klostergasse 15\, St.Pölten\, Österreich
GEO:48.2067871;15.6265436
X-APPLE-STRUCTURED-LOCATION;VALUE=URI;X-ADDRESS=Klostergasse 15 St.Pölten Österreich;X-APPLE-RADIUS=500;X-TITLE=Klostergasse 15:geo:15.6265436,48.2067871
END:VEVENT
END:VCALENDAR