BEGIN:VCALENDAR
VERSION:2.0
PRODID:-//empfängnis.com - ECPv4.6.2//NONSGML v1.0//EN
CALSCALE:GREGORIAN
METHOD:PUBLISH
X-WR-CALNAME:empfängnis.com
X-ORIGINAL-URL:http://www.xn--empfngnis-y2a.com
X-WR-CALDESC:Events for empfängnis.com
BEGIN:VEVENT
DTSTART;TZID=Europe/Berlin:20170421T080000
DTEND;TZID=Europe/Berlin:20170421T170000
DTSTAMP:20260421T151836
CREATED:20170421T080224Z
LAST-MODIFIED:20170421T080232Z
UID:1762-1492761600-1492794000@www.xn--empfngnis-y2a.com
SUMMARY:Mödling\, Infoabend -  Pille\, Spirale & Co
DESCRIPTION:\n\n\nTermine\nINFO – Montag\, 15.05.2017\, 19:30 – 21:00\n\n\nAdresse\n2340 Mödling\, Pfarrheim\, Elisabethstraße 28\n\n\nVeranstalter\nINER\n\n\nAuskunft\nBei der Referentin\,\n066411 88 721 oder barbara@notar-sauberer.at\n\n\nReferent(en)\nDr. Barbara M. Sauberer\,\nBiologin und Familientrainerin des Landes NÖ\n\n\nBesonderes\nFreier Eintritt!\nSpenden erbeten zugunsten Mary´s Meals (www.marysmeals.at)\n\n\n\n
URL:http://www.xn--empfngnis-y2a.com/veranstaltung/moedling-infoabend-pille-spirale-co/
END:VEVENT
END:VCALENDAR