BEGIN:VCALENDAR
VERSION:2.0
PRODID:-//empfängnis.com - ECPv4.6.2//NONSGML v1.0//EN
CALSCALE:GREGORIAN
METHOD:PUBLISH
X-WR-CALNAME:empfängnis.com
X-ORIGINAL-URL:http://www.xn--empfngnis-y2a.com
X-WR-CALDESC:Events for empfängnis.com
BEGIN:VEVENT
DTSTART;TZID=Europe/Berlin:20160407T190000
DTEND;TZID=Europe/Berlin:20160407T220000
DTSTAMP:20260422T052138
CREATED:20160302T191530Z
LAST-MODIFIED:20160302T191619Z
UID:769-1460055600-1460066400@www.xn--empfngnis-y2a.com
SUMMARY:Mit Freuden Frau sein
DESCRIPTION:
URL:http://www.xn--empfngnis-y2a.com/veranstaltung/mit-freuden-frau-sein/
LOCATION:Kaltenberger Hof\, Kaltenberg\, 4273\, Österreich
GEO:48.4498807;14.7748969
X-APPLE-STRUCTURED-LOCATION;VALUE=URI;X-ADDRESS=Kaltenberger Hof Kaltenberg 4273 Österreich;X-APPLE-RADIUS=500;X-TITLE=Kaltenberger Hof:geo:14.7748969,48.4498807
END:VEVENT
END:VCALENDAR