BEGIN:VCALENDAR
VERSION:2.0
PRODID:-//empfängnis.com - ECPv4.6.2//NONSGML v1.0//EN
CALSCALE:GREGORIAN
METHOD:PUBLISH
X-WR-CALNAME:empfängnis.com
X-ORIGINAL-URL:http://www.xn--empfngnis-y2a.com
X-WR-CALDESC:Events for empfängnis.com
BEGIN:VEVENT
DTSTART;TZID=Europe/Berlin:20170213T190000
DTEND;TZID=Europe/Berlin:20170213T213000
DTSTAMP:20260421T171955
CREATED:20161204T160222Z
LAST-MODIFIED:20161204T160222Z
UID:1301-1487012400-1487021400@www.xn--empfngnis-y2a.com
SUMMARY:Mit Freuden Frau sein.....
DESCRIPTION:
URL:http://www.xn--empfngnis-y2a.com/veranstaltung/mit-freuden-frau-sein-2/
LOCATION:Eybner Straße 5\, St. Pölten\, 3100\, Österreich
GEO:48.205718;15.6305372
X-APPLE-STRUCTURED-LOCATION;VALUE=URI;X-ADDRESS=Eybner Straße 5 St. Pölten 3100 Österreich;X-APPLE-RADIUS=500;X-TITLE=Eybner Straße 5:geo:15.6305372,48.205718
END:VEVENT
END:VCALENDAR