BEGIN:VCALENDAR
VERSION:2.0
PRODID:-//empfängnis.com - ECPv4.6.2//NONSGML v1.0//EN
CALSCALE:GREGORIAN
METHOD:PUBLISH
X-WR-CALNAME:empfängnis.com
X-ORIGINAL-URL:http://www.xn--empfngnis-y2a.com
X-WR-CALDESC:Events for empfängnis.com
BEGIN:VEVENT
DTSTART;TZID=Europe/Berlin:20171013T193000
DTEND;TZID=Europe/Berlin:20171013T210000
DTSTAMP:20260421T193338
CREATED:20170921T112914Z
LAST-MODIFIED:20170921T113117Z
UID:1938-1507923000-1507928400@www.xn--empfngnis-y2a.com
SUMMARY:Mit dir bin ich glücklich
DESCRIPTION:„Ehe ist wie Radfahren. nur bergab geht es von allein“ \nErfolgsfaktoren für eine gelungene Beziehung \nFreitag\, 13. Oktober 2017 um 19:30 Uhr \n\n\n\nOrt:\nBildungshaus St. Hippolyt St. Pölten\n\n\nReferenten:\nPatricia & Günther Mayrhofer\, Familientrainer\n\n\nKosten:\n9€/Person\, 16€/Paar\n\n\nAnmeldung:\nim Bildungshaus 02742/352104-0 od. hiphaus@kirche.at*protected email*\n\n\nInfo:\nFam. Zeitlinger 0664/73 878 237; familie.zeitlinger@gmx.net*protected email*\n\n\n\n
URL:http://www.xn--empfngnis-y2a.com/veranstaltung/mit-dir-bin-ich-gluecklich/
LOCATION:Eybner Straße 5\, St. Pölten\, 3100\, Österreich
GEO:48.205718;15.6305372
X-APPLE-STRUCTURED-LOCATION;VALUE=URI;X-ADDRESS=Eybner Straße 5 St. Pölten 3100 Österreich;X-APPLE-RADIUS=500;X-TITLE=Eybner Straße 5:geo:15.6305372,48.205718
END:VEVENT
END:VCALENDAR