BEGIN:VCALENDAR
VERSION:2.0
PRODID:-//empfängnis.com - ECPv4.6.2//NONSGML v1.0//EN
CALSCALE:GREGORIAN
METHOD:PUBLISH
X-WR-CALNAME:empfängnis.com
X-ORIGINAL-URL:http://www.xn--empfngnis-y2a.com
X-WR-CALDESC:Events for empfängnis.com
BEGIN:VEVENT
DTSTART;TZID=Europe/Berlin:20161104T190000
DTEND;TZID=Europe/Berlin:20161104T220000
DTSTAMP:20260422T032845
CREATED:20161006T125407Z
LAST-MODIFIED:20161006T125407Z
UID:1159-1478286000-1478296800@www.xn--empfngnis-y2a.com
SUMMARY:Mein Körper - unser Thema!? INFOABEND
DESCRIPTION:
URL:http://www.xn--empfngnis-y2a.com/veranstaltung/mein-koerper-unser-thema-infoabend/
LOCATION:Marktplatz 1\, Linz\, 4481\, Österreich
GEO:48.2199018;14.4210163
X-APPLE-STRUCTURED-LOCATION;VALUE=URI;X-ADDRESS=Marktplatz 1 Linz 4481 Österreich;X-APPLE-RADIUS=500;X-TITLE=Marktplatz 1:geo:14.4210163,48.2199018
END:VEVENT
END:VCALENDAR