BEGIN:VCALENDAR
VERSION:2.0
PRODID:-//empfängnis.com - ECPv4.6.2//NONSGML v1.0//EN
CALSCALE:GREGORIAN
METHOD:PUBLISH
X-WR-CALNAME:empfängnis.com
X-ORIGINAL-URL:http://www.xn--empfngnis-y2a.com
X-WR-CALDESC:Events for empfängnis.com
BEGIN:VEVENT
DTSTART;TZID=Europe/Berlin:20180929T093000
DTEND;TZID=Europe/Berlin:20180929T170000
DTSTAMP:20260421T001059
CREATED:20180919T115116Z
LAST-MODIFIED:20180919T115116Z
UID:2197-1538213400-1538240400@www.xn--empfngnis-y2a.com
SUMMARY:Mama -Building
DESCRIPTION:Gelegenheit\, an dich zu denken und die Seele baumeln zu lassen. Mama-Building soll dich als Mama stärken und kräftigen\, damit du für die alltäglichen Aufgaben gut gewappnet bist und die Freude an den Kindern wächst.\nImpulse\, gleichgesinnte Mamas\, Spazierengehen\, in Ruhe Mittagessen und Kaffee trinken … Eine Zeit zum Krafttanken!\nFür Mütter von Kindern von 0-10 Jahren. Babys können mitgenommen werden. Begrenzte Teilnehmerzahl! \nKosten: 80 Euro inkl. Mittagessen und Jause \nReferentin: Mag. Claudia Umschaden \nTermin: Samstag\, 29.9.2018  9:30 bis 17:00 \nwww.meinefamilie.at \nMaria Ward Haus im Lilienhof\, Stattersdorfer Hauptstr. 62\, 3100 St. Pölten \nInfos und Anmeldung: a.hiesinger@kirche.at oder Tel.: 02742 324-3339 \n  \n
URL:http://www.xn--empfngnis-y2a.com/veranstaltung/mama-building/
LOCATION:Stattersdorfer Hauptstraße 62\, St. Pölten\, 3100\, Österreich
GEO:48.1925924;15.6403726
X-APPLE-STRUCTURED-LOCATION;VALUE=URI;X-ADDRESS=Stattersdorfer Hauptstraße 62 St. Pölten 3100 Österreich;X-APPLE-RADIUS=500;X-TITLE=Stattersdorfer Hauptstraße 62:geo:15.6403726,48.1925924
END:VEVENT
END:VCALENDAR