BEGIN:VCALENDAR
VERSION:2.0
PRODID:-//empfängnis.com - ECPv4.6.2//NONSGML v1.0//EN
CALSCALE:GREGORIAN
METHOD:PUBLISH
X-WR-CALNAME:empfängnis.com
X-ORIGINAL-URL:http://www.xn--empfngnis-y2a.com
X-WR-CALDESC:Events for empfängnis.com
BEGIN:VEVENT
DTSTART;TZID=Europe/Berlin:20170314T190000
DTEND;TZID=Europe/Berlin:20170314T210000
DTSTAMP:20260421T153824
CREATED:20170214T090535Z
LAST-MODIFIED:20170214T090749Z
UID:1538-1489518000-1489525200@www.xn--empfngnis-y2a.com
SUMMARY:Linz\, Grundkurs Natürliche Empfängnisregelung G2
DESCRIPTION:\n\n\nKursart\nGrundkurs\n\n\nTermine\nG1 – Dienstag\, 07.03.2017\, 19:00 – 21:00G2 – Dienstag\, 14.03.2017\, 19:00 – 21:00G3 – Dienstag\, 28.03.2017\, 19:00 – 21:00\n\n\nAdresse\n4020 Linz\, Harrachstraße 4\n\n\nVeranstalter\nHebamme Katharina Nickel\n\n\nAuskunft\nkatharina-nickel@aon.at\n\n\nReferent(en)\nHebamme Katharina Nickel\n\n\nBesonderes\nKurskosten €50\,- pro Person oder Paar\nPreis inklusive Kursunterlagen\nDas Buch „Natürliche Empfängnisregelung – Dr. Josef Rötzer“ kann im Kurs erworben werden.\n\n\n\n
URL:http://www.xn--empfngnis-y2a.com/veranstaltung/linz-grundkurs-natuerliche-empfaengnisregelung-g1-copy/
END:VEVENT
END:VCALENDAR