BEGIN:VCALENDAR
VERSION:2.0
PRODID:-//empfängnis.com - ECPv4.6.2//NONSGML v1.0//EN
CALSCALE:GREGORIAN
METHOD:PUBLISH
X-WR-CALNAME:empfängnis.com
X-ORIGINAL-URL:http://www.xn--empfngnis-y2a.com
X-WR-CALDESC:Events for empfängnis.com
BEGIN:VEVENT
DTSTART;TZID=Europe/Berlin:20160404T193000
DTEND;TZID=Europe/Berlin:20160404T210000
DTSTAMP:20260422T052553
CREATED:20160302T190453Z
LAST-MODIFIED:20160302T190453Z
UID:759-1459798200-1459803600@www.xn--empfngnis-y2a.com
SUMMARY:Liebe - JA natürlich! Sie möchten Ihre positive Einstellung zum Körper und Zyklus fördern und die partnerschaftliche Beziehung bereichern? Dann laden wir Sie herzlich zum Vortrag ein!
DESCRIPTION:
URL:http://www.xn--empfngnis-y2a.com/veranstaltung/liebe-ja-natuerlich-sie-moechten-ihre-positive-einstellung-zum-koerper-und-zyklus-foerdern-und-die-partnerschaftliche-beziehung-bereichern-dann-laden-wir-sie-herzlich-zum-vortrag-ein/
LOCATION:Hauptstraße 38\, Gasthaus Pitzl\, Blindenmarkt\, 3372\, Österreich
GEO:48.127644;14.9834514
X-APPLE-STRUCTURED-LOCATION;VALUE=URI;X-ADDRESS=Hauptstraße 38 Gasthaus Pitzl Blindenmarkt 3372 Österreich;X-APPLE-RADIUS=500;X-TITLE=Hauptstraße 38\, Gasthaus Pitzl:geo:14.9834514,48.127644
END:VEVENT
END:VCALENDAR