BEGIN:VCALENDAR
VERSION:2.0
PRODID:-//empfängnis.com - ECPv4.6.2//NONSGML v1.0//EN
CALSCALE:GREGORIAN
METHOD:PUBLISH
X-WR-CALNAME:empfängnis.com
X-ORIGINAL-URL:http://www.xn--empfngnis-y2a.com
X-WR-CALDESC:Events for empfängnis.com
BEGIN:VEVENT
DTSTART;TZID=Europe/Berlin:20160820T090000
DTEND;TZID=Europe/Berlin:20160820T173000
DTSTAMP:20260422T050937
CREATED:20160801T151528Z
LAST-MODIFIED:20160801T151601Z
UID:1002-1471683600-1471714200@www.xn--empfngnis-y2a.com
SUMMARY:LIEBE - JA NATÜRLICH! Grundkurs der Natürlichen Empfängnisregelung als Tageskurs
DESCRIPTION:
URL:http://www.xn--empfngnis-y2a.com/veranstaltung/liebe-ja-natuerlich-grundkurs-der-natuerlichen-empfaengnisregelung-als-tageskurs/
LOCATION:Hauptstraße 12\, Persenbeug\, 3680\, Österreich
GEO:48.1871392;15.0814849
X-APPLE-STRUCTURED-LOCATION;VALUE=URI;X-ADDRESS=Hauptstraße 12 Persenbeug 3680 Österreich;X-APPLE-RADIUS=500;X-TITLE=Hauptstraße 12:geo:15.0814849,48.1871392
END:VEVENT
END:VCALENDAR