BEGIN:VCALENDAR
VERSION:2.0
PRODID:-//empfängnis.com - ECPv4.6.2//NONSGML v1.0//EN
CALSCALE:GREGORIAN
METHOD:PUBLISH
X-WR-CALNAME:empfängnis.com
X-ORIGINAL-URL:http://www.xn--empfngnis-y2a.com
X-WR-CALDESC:Events for empfängnis.com
BEGIN:VEVENT
DTSTART;TZID=Europe/Berlin:20180228T080000
DTEND;TZID=Europe/Berlin:20180304T170000
DTSTAMP:20260421T090657
CREATED:20170920T080557Z
LAST-MODIFIED:20170920T080557Z
UID:1910-1519804800-1520182800@www.xn--empfngnis-y2a.com
SUMMARY:LBI STUDIENGANG SEXUALPÄDAGOGIK
DESCRIPTION:Phil.-theol. Hochschule Benedikt XVI. Heiligenkreuz\nund Initiative Christliche Familie \n  \nModul 1: 28. Februar – 04. März 2018 \nSexualität und Kultur- Philosophie -Anthrologie – Ethik \nModul 2: 20.-22. April2018\, 8.-10. Juni 2018 \nSoziologie und Psychologie: Gesellschaft und Individuum – Lust und psychische Integration \nModule 3-8 bitte siehe auf Homepage leib-bindung-identität.org \n  \n
URL:http://www.xn--empfngnis-y2a.com/veranstaltung/lbi-studiengang-sexualpaedagogik/
LOCATION:Otto von Freising-Platz 1\, Heiligenkreuz\, 2532\, Österreich
GEO:48.0559006;16.135868
X-APPLE-STRUCTURED-LOCATION;VALUE=URI;X-ADDRESS=Otto von Freising-Platz 1 Heiligenkreuz 2532 Österreich;X-APPLE-RADIUS=500;X-TITLE=Otto von Freising-Platz 1:geo:16.135868,48.0559006
END:VEVENT
END:VCALENDAR