BEGIN:VCALENDAR
VERSION:2.0
PRODID:-//empfängnis.com - ECPv4.6.2//NONSGML v1.0//EN
CALSCALE:GREGORIAN
METHOD:PUBLISH
X-WR-CALNAME:empfängnis.com
X-ORIGINAL-URL:http://www.xn--empfngnis-y2a.com
X-WR-CALDESC:Events for empfängnis.com
BEGIN:VEVENT
DTSTART;TZID=Europe/Berlin:20191109T080000
DTEND;TZID=Europe/Berlin:20191109T180000
DTSTAMP:20260420T164537
CREATED:20190930T194831Z
LAST-MODIFIED:20190930T194831Z
UID:2531-1573286400-1573322400@www.xn--empfngnis-y2a.com
SUMMARY:Kufstein: Grundkurs NER Tageskurs
DESCRIPTION:\n\n\nKursart\nGrundkurs als Tageskurs\n\n\nTermine\nGT – Samstag\, 09.11.2019\, 09:00 – 18:00\n\n\nAdresse\n6330 Kufstein-Kleinholz\, Lindenallee 13\, Maria Hilf\n\n\nVeranstalter\nReferat für Ehe und Familie der Erzdiözese Salzburg\, Dreifaltigkeitsgasse 12\, 5020 Salzburg\n\n\nAuskunft\nMag. Maria Eisl\nTel: 0662/879613-12\nmaria.eisl@familie.kirchen.net\nwww.familie.kirchen.net\n\n\nTelefon\n0662/879613-12\n\n\nE-Mail\nmaria.eisl@familie.kirchen.net\n\n\nReferent(en)\nMirjam Holzer\n\n\nBesonderes\nSeminarbeitrag mit Unterlagen\nPro Person 60\,– €\nPro Ehepaar 79\,– €\nErmäßigung auf Anfrage möglich\nAnmeldung erforderlich\n\n\n\n
URL:http://www.xn--empfngnis-y2a.com/veranstaltung/kufstein-grundkurs-ner-tageskurs/
LOCATION:Lindenallee 13\, Kufstein-Kleinholz\, 6330\, Österreich
END:VEVENT
END:VCALENDAR