BEGIN:VCALENDAR
VERSION:2.0
PRODID:-//empfängnis.com - ECPv4.6.2//NONSGML v1.0//EN
CALSCALE:GREGORIAN
METHOD:PUBLISH
X-WR-CALNAME:empfängnis.com
X-ORIGINAL-URL:http://www.xn--empfngnis-y2a.com
X-WR-CALDESC:Events for empfängnis.com
BEGIN:VEVENT
DTSTART;TZID=Europe/Berlin:20151202T200000
DTEND;TZID=Europe/Berlin:20151202T213000
DTSTAMP:20260422T052608
CREATED:20150914T083309Z
LAST-MODIFIED:20150914T113121Z
UID:185-1449086400-1449091800@www.xn--empfngnis-y2a.com
SUMMARY:Kostenloser Infoabend in Wiener Neustadt
DESCRIPTION:mit Familie Pichler\, Voranmeldung unter 0676 3637164 oder pichler.r@outlook.com \nOrt wird bei Anmeldung bekanntgegeben (hängt von der Teilnehmerzahl ab) \n
URL:http://www.xn--empfngnis-y2a.com/veranstaltung/kostenloser-infoabend-in-wiener-neustadt-4/
LOCATION:Ort wird bei Anmeldung bekanntgegeben\, Wiener Neustadt
GEO:47.80279;16.23318
X-APPLE-STRUCTURED-LOCATION;VALUE=URI;X-ADDRESS=Ort wird bei Anmeldung bekanntgegeben Wiener Neustadt;X-APPLE-RADIUS=500;X-TITLE=Ort wird bei Anmeldung bekanntgegeben:geo:16.23318,47.80279
ORGANIZER;CN="Familie%20Pichler":MAILTO:pichler.r@outlook.com
END:VEVENT
END:VCALENDAR