BEGIN:VCALENDAR
VERSION:2.0
PRODID:-//empfängnis.com - ECPv4.6.2//NONSGML v1.0//EN
CALSCALE:GREGORIAN
METHOD:PUBLISH
X-WR-CALNAME:empfängnis.com
X-ORIGINAL-URL:http://www.xn--empfngnis-y2a.com
X-WR-CALDESC:Events for empfängnis.com
BEGIN:VEVENT
DTSTART;TZID=Europe/Berlin:20181004T150000
DTEND;TZID=Europe/Berlin:20181004T200000
DTSTAMP:20260421T014304
CREATED:20180927T102947Z
LAST-MODIFIED:20180927T103035Z
UID:2208-1538665200-1538683200@www.xn--empfngnis-y2a.com
SUMMARY:Kinder und Jugendliche kompetent begleiten
DESCRIPTION:Workshop und Vortrag Kinder und Jugendliche kompetent begleiten\nDonnerstag 04.10.2018 15:00 – 22:00 Uhr\nNeue Erkenntnisse aus der Bindungsforschung\nInformation und Anmeldung Bildungshaus St. Hippolyt www.hiphaus.at Eybnerstraße 5\, A-3100 St. Pölten hiphaus@kirche.at | 02742/352 104\nKursbeitrag: € 25\,- Workshop | € 10\,- Vortrag € 30\,- Workshop & Vortrag\nDr. Klaus Vavrik begeistert durch sein detailliertes und praxisnahes Wissen aus seiner langjährigen Erfahrung als Kinder- und Jugendpsychiater. Verschiedenste Auffälligkeiten werden unter Einbeziehung des Lebensumfeldes von Kindern erklärt und gedeutet.\nReferent: Dr. Klaus Vavrik\, Kinderarzt\, Kinder- und Jugendpsychiater \nKursbeitrag: € 25\,- Workshop | € 10\,- Vortrag € 30\,- Workshop & Vortrag \nInformation und Anmeldung Bildungshaus St. Hippolyt www.hiphaus.at Eybnerstraße 5\, A-3100 St. Pölten hiphaus@kirche.at | 02742/352 104 \n
URL:http://www.xn--empfngnis-y2a.com/veranstaltung/kinder-und-jugendliche-kompetent-begleiten/
LOCATION:Eybner Straße 5\, St. Pölten\, 3100\, Österreich
GEO:48.205718;15.6305372
X-APPLE-STRUCTURED-LOCATION;VALUE=URI;X-ADDRESS=Eybner Straße 5 St. Pölten 3100 Österreich;X-APPLE-RADIUS=500;X-TITLE=Eybner Straße 5:geo:15.6305372,48.205718
END:VEVENT
END:VCALENDAR