BEGIN:VCALENDAR
VERSION:2.0
PRODID:-//empfängnis.com - ECPv4.6.2//NONSGML v1.0//EN
CALSCALE:GREGORIAN
METHOD:PUBLISH
X-WR-CALNAME:empfängnis.com
X-ORIGINAL-URL:http://www.xn--empfngnis-y2a.com
X-WR-CALDESC:Events for empfängnis.com
BEGIN:VEVENT
DTSTART;TZID=Europe/Berlin:20171025T190000
DTEND;TZID=Europe/Berlin:20171029T200000
DTSTAMP:20260421T104740
CREATED:20170920T082739Z
LAST-MODIFIED:20171020T071835Z
UID:1925-1508958000-1509307200@www.xn--empfngnis-y2a.com
SUMMARY:Kinder- und Heldenwallfahrt Medjugorje
DESCRIPTION:25. – 29.10.2017 • Medjugorje \nbeschränkte Teilnehmerzahl \nWallfahrt nach Medjugorje für Mädchen und Buben von 9 bis 13 Jahren; und Helden für IHN ab 14 Jahren Buntes Busprogramm\, Spiele\, Spaß\, Gemeinschaft\, Singen\, Gebet\, Hl. Messe\, Vorträge\, Beichtgelegenheit und vieles mehr! Lass Dich überraschen! \nInfo bzw. Anmeldung:\nimmaculata@aon.at \nFolder 2017 \n
URL:http://www.xn--empfngnis-y2a.com/veranstaltung/kinder-und-heldenwallfahrt-medjugorje/
END:VEVENT
END:VCALENDAR