BEGIN:VCALENDAR
VERSION:2.0
PRODID:-//empfängnis.com - ECPv4.6.2//NONSGML v1.0//EN
CALSCALE:GREGORIAN
METHOD:PUBLISH
X-WR-CALNAME:empfängnis.com
X-ORIGINAL-URL:http://www.xn--empfngnis-y2a.com
X-WR-CALDESC:Events for empfängnis.com
BEGIN:VEVENT
DTSTART;TZID=Europe/Berlin:20210619T133000
DTEND;TZID=Europe/Berlin:20210619T173000
DTSTAMP:20260419T222444
CREATED:20210517T075352Z
LAST-MODIFIED:20210517T075433Z
UID:2755-1624109400-1624123800@www.xn--empfngnis-y2a.com
SUMMARY:Kann man LIEBEN  lernen?
DESCRIPTION:Kann man LIEBEN lernen?\nSamstag\, 5. Juni 2021\n13.30 bis 17.30 Uhr \nWorkshop für Freundschaft\, Liebe\, Sexualität – für junge\nErwachsene und Jugendliche ab 16\, Singles und Paare. \n\nWas bedeutet „Lieben“? Wie fi nde ich den Richtigen / die Richtige fürs Leben? Wie gehen wir als Paar mit unseren Wünschen\num? Wie kann lebenslange Ehe heute noch gelingen? \n\nHelmut und Uschi Waismayer – verheiratet seit 1990\, vier\nerwachsene Söhne\, ausgebildete Ehe- und Familientrainer mit\nSchwerpunkt „Sexualität“\, leiten Kinder- und Jugendkurse für\nkindgerechte Sexualerziehung\, tätig in der Ehevorbereitung und\nals NER-Kursleiter. \n\nProgramm: Impuls\, Austausch\, Fragen\, Jause.\nPastorale Dienste der Diözese St. Pölten\,\nKlostergasse 15\nKosten: € 10\,00 (pro Person / Paar)\nAnmeldung und Information:\nAngela Hiesinger\, Fachstelle Beziehung-Ehe-Familie\nE-a.hiesinger@kirche.at oder T: 02742 / 324-3339  \n
URL:http://www.xn--empfngnis-y2a.com/veranstaltung/kann-man-lieben-lernen-copy/
LOCATION:Klostergasse 15\, Sankt Pölten\, 3100\, Österreich
GEO:48.2067871;15.6265436
X-APPLE-STRUCTURED-LOCATION;VALUE=URI;X-ADDRESS=Klostergasse 15 Sankt Pölten 3100 Österreich;X-APPLE-RADIUS=500;X-TITLE=Klostergasse 15:geo:15.6265436,48.2067871
END:VEVENT
END:VCALENDAR