BEGIN:VCALENDAR
VERSION:2.0
PRODID:-//empfängnis.com - ECPv4.6.2//NONSGML v1.0//EN
CALSCALE:GREGORIAN
METHOD:PUBLISH
X-WR-CALNAME:empfängnis.com
X-ORIGINAL-URL:http://www.xn--empfngnis-y2a.com
X-WR-CALDESC:Events for empfängnis.com
BEGIN:VEVENT
DTSTART;TZID=Europe/Berlin:20170718T130000
DTEND;TZID=Europe/Berlin:20170723T140000
DTSTAMP:20260421T141240
CREATED:20170404T103318Z
LAST-MODIFIED:20170404T103318Z
UID:1686-1500382800-1500818400@www.xn--empfngnis-y2a.com
SUMMARY:Jungfamilientreffen in Pöllau
DESCRIPTION:Jungfamilientreffen Pöllau \n18. – 23.07.2017 • Pöllau\nEine tolle Woche für die ganze Familie!\nProgrammelemante: Morgen und Abendgebet mit den Kindern\, Vorträge\, Workshops\, Hl. Messe\, Kinderprogramm\, Bunter Jahrmarkt\, Buschenschank\, …….. \nInfo bzw. Anmeldung:\njungfamilien@aon.at \n
URL:http://www.xn--empfngnis-y2a.com/veranstaltung/jungfamilientreffen-in-poellau/
END:VEVENT
END:VCALENDAR