BEGIN:VCALENDAR
VERSION:2.0
PRODID:-//empfängnis.com - ECPv4.6.2//NONSGML v1.0//EN
CALSCALE:GREGORIAN
METHOD:PUBLISH
X-WR-CALNAME:empfängnis.com
X-ORIGINAL-URL:http://www.xn--empfngnis-y2a.com
X-WR-CALDESC:Events for empfängnis.com
BEGIN:VEVENT
DTSTART;TZID=Europe/Berlin:20170711T140000
DTEND;TZID=Europe/Berlin:20170716T140000
DTSTAMP:20260421T152056
CREATED:20170407T104400Z
LAST-MODIFIED:20170407T104400Z
UID:1739-1499781600-1500213600@www.xn--empfngnis-y2a.com
SUMMARY:Jugendtreffen in Pöllau
DESCRIPTION:Das Jugendtreffen in Pöllau findet von 11. bis 16. Juli 2017 statt. \nDas Motto: „ Der Mächtige hat Großes an mir getan und Sein Name ist heilig“ \nSeit 25 Jahren gibt es im steirischen Pöllau ein Jugendtreffe mit mittlerweilen 100 erten Teilnehmern. \nEine Woche lang gemeinsame Zeit mit Vorträgen zu Themen\, die Jugendliche bewegen \, Workshops\, Austausch\, hl. Messe\, Gebet und Lobpreis. \nAnmeldung: online unter http.//jugendtreffen.at \nKontakt: Verein Jugendtreffen Pöllau\, poellau@aon.at \nTel.: 0650 2105073 \n  \n
URL:http://www.xn--empfngnis-y2a.com/veranstaltung/jugendtreffen-in-poellau/
LOCATION:Pöllau\, Pöllau\, Österreich
GEO:47.30361;15.8357604
X-APPLE-STRUCTURED-LOCATION;VALUE=URI;X-ADDRESS=Pöllau Pöllau Österreich;X-APPLE-RADIUS=500;X-TITLE=Pöllau:geo:15.8357604,47.30361
END:VEVENT
END:VCALENDAR