BEGIN:VCALENDAR
VERSION:2.0
PRODID:-//empfängnis.com - ECPv4.6.2//NONSGML v1.0//EN
CALSCALE:GREGORIAN
METHOD:PUBLISH
X-WR-CALNAME:empfängnis.com
X-ORIGINAL-URL:http://www.xn--empfngnis-y2a.com
X-WR-CALDESC:Events for empfängnis.com
BEGIN:VEVENT
DTSTART;VALUE=DATE:20181012
DTEND;VALUE=DATE:20181015
DTSTAMP:20260421T055143
CREATED:20180929T200737Z
LAST-MODIFIED:20180929T202153Z
UID:2288-1539302400-1539561599@www.xn--empfngnis-y2a.com
SUMMARY:Jubiläumskongress Humanae Vitae in Salzburg
DESCRIPTION:50 Jahre Humanae Vitae \nEin Zeichen des Widerspruchs \n12-14 Oktober in der Residenz in Salzburg \nAnmeldungen erbeten bis 5.10. \nGenaue Informationen kongress.eu-ae.com \nVeranstalter : Europäische Ärzteaktion e.V. \n
URL:http://www.xn--empfngnis-y2a.com/veranstaltung/jubilaeumskongress-humanae-vitae-in-salzburg/
LOCATION:Residenzplatz 1\, Salzburg\, 5020\, Österreich
END:VEVENT
END:VCALENDAR