BEGIN:VCALENDAR
VERSION:2.0
PRODID:-//empfängnis.com - ECPv4.6.2//NONSGML v1.0//EN
CALSCALE:GREGORIAN
METHOD:PUBLISH
X-WR-CALNAME:empfängnis.com
X-ORIGINAL-URL:http://www.xn--empfngnis-y2a.com
X-WR-CALDESC:Events for empfängnis.com
BEGIN:VEVENT
DTSTART;VALUE=DATE:20181115
DTEND;VALUE=DATE:20181117
DTSTAMP:20260421T052151
CREATED:20180929T201825Z
LAST-MODIFIED:20180929T201825Z
UID:2296-1542240000-1542412799@www.xn--empfngnis-y2a.com
SUMMARY:International Symposium Humanae Vitae
DESCRIPTION:International Symposium\, 15-16 November 2018 in Schloss Trumau\, Austria \nLiving today the prophetic vision of Humanae Vitae and Veritatis Splendor Reflecting on Reality 50 Years and 25 Years Onwards \nconference@iti.ac.at or call +43 2253 218 08 \nInstitute: www.iti.ac.at \n
URL:http://www.xn--empfngnis-y2a.com/veranstaltung/international-symposium-humanae-vitae/
LOCATION:Schlossgasse 1\, Trumau\, 2521\, Österreich
END:VEVENT
END:VCALENDAR