BEGIN:VCALENDAR
VERSION:2.0
PRODID:-//empfängnis.com - ECPv4.6.2//NONSGML v1.0//EN
CALSCALE:GREGORIAN
METHOD:PUBLISH
X-WR-CALNAME:empfängnis.com
X-ORIGINAL-URL:http://www.xn--empfngnis-y2a.com
X-WR-CALDESC:Events for empfängnis.com
BEGIN:VEVENT
DTSTART;TZID=Europe/Berlin:20190913T080000
DTEND;TZID=Europe/Berlin:20190913T170000
DTSTAMP:20260420T112402
CREATED:20190913T082041Z
LAST-MODIFIED:20190913T082041Z
UID:2491-1568361600-1568394000@www.xn--empfngnis-y2a.com
SUMMARY:Info- Abend zur Natürlichen Empfängnisregelung\, Haag
DESCRIPTION:Natürliche Empfängnisregelung Pille\, Spirale & Co. Gibt es Alternativen? \nWann: Infoabend 27.09. 2019 19:30–21:00 \nWo: Eltern-Kind-Familienzentrum\, Hauptplatz 1\, 3350 Haag \nInformation & Anmeldung: Angela Hiesinger Tel.: 02742 324 33 39 E-Mail: a.hiesinger@kirche.at \nPartnerschaftlich\, gesund und sicher\, nebenwirkungsfrei\, umweltbewahrend & einfach in der Anwendung\nReferentin: Elisabeth Brandstette\,r Sexualpädagogin und zertifizierte INER-Mitarbeiterin www.iner.org \n
URL:http://www.xn--empfngnis-y2a.com/veranstaltung/info-abend-zur-natuerlichen-empfaengnisregelung-haag/
LOCATION:Hauptplatz 1\, Haag\, 3350\, Österreich
GEO:48.1121074;14.5658083
X-APPLE-STRUCTURED-LOCATION;VALUE=URI;X-ADDRESS=Hauptplatz 1 Haag 3350 Österreich;X-APPLE-RADIUS=500;X-TITLE=Hauptplatz 1:geo:14.5658083,48.1121074
END:VEVENT
END:VCALENDAR