BEGIN:VCALENDAR
VERSION:2.0
PRODID:-//empfängnis.com - ECPv4.6.2//NONSGML v1.0//EN
CALSCALE:GREGORIAN
METHOD:PUBLISH
X-WR-CALNAME:empfängnis.com
X-ORIGINAL-URL:http://www.xn--empfngnis-y2a.com
X-WR-CALDESC:Events for empfängnis.com
BEGIN:VEVENT
DTSTART;TZID=Europe/Berlin:20180818T090000
DTEND;TZID=Europe/Berlin:20180818T120000
DTSTAMP:20260421T054453
CREATED:20180612T160630Z
LAST-MODIFIED:20180612T160717Z
UID:2166-1534582800-1534593600@www.xn--empfngnis-y2a.com
SUMMARY:Hollenstein/Ybbs; Grundkurs  NER Teil 2
DESCRIPTION:Grundkurs Natürliche Empfängnisregelung in 2 Teilen \nReferentin: Katrin Sonnleitner \nSamstag\, 28.7. und 18.8.2018\, 9-12 Uhr \nLandwirtschaftliche Fachschule Hohenlehen\, Garnberg 8\, 3343 Hollenstein a.d.Ybbs \nAnmeldung erforderlich! Tel: 02742/324/3339 oder a.hiesinger@kirche.at \nKursbeitrag: € 65\,00 f. Paare\, € 60\,00 f. Einzelpersonen\, \nErm. f. Schülerinnen und Studentinnen  € 45\,00 inkl. Buch und Kursunterlagen \nweitere Termine: www.iner.org \n  \n
URL:http://www.xn--empfngnis-y2a.com/veranstaltung/hollensteinybbs-grundkurs-ner-copy/
LOCATION:Garnberg 8\, Hollenstein a.d.Ybbs\, 3343\, Österreich
END:VEVENT
END:VCALENDAR