BEGIN:VCALENDAR
VERSION:2.0
PRODID:-//empfängnis.com - ECPv4.6.2//NONSGML v1.0//EN
CALSCALE:GREGORIAN
METHOD:PUBLISH
X-WR-CALNAME:empfängnis.com
X-ORIGINAL-URL:http://www.xn--empfngnis-y2a.com
X-WR-CALDESC:Events for empfängnis.com
BEGIN:VEVENT
DTSTART;TZID=Europe/Berlin:20181019T193000
DTEND;TZID=Europe/Berlin:20181019T213000
DTSTAMP:20260421T020559
CREATED:20180928T103422Z
LAST-MODIFIED:20180928T103559Z
UID:2245-1539977400-1539984600@www.xn--empfngnis-y2a.com
SUMMARY:Haag\, NER Grundkurs G3
DESCRIPTION:Kursart Grundkurs in drei Teilen \nTermineG1 – Freitag\, 05.10.2018\, 19:30 – 21:30 \nG2 – Freitag\, 12.10.2018\, 19:30 – 21:30 \nG3 – Freitag\, 19.10.2018\, 19:30 – 21:30Adresse3350 Haag\, Hauptplatz 1 \nVeranstalterEKIFAZ Haag und Bereich Familie \nAuskunftAngela HiesingerTelefon02742/324/3339E-Maila.hiesinger@kirche.at \nReferent(en)Bettina Unger \nBesonderesAnmeldung erforderlich!\nErmäßigung f. EKIFAZ MitgliederKurs – \n
URL:http://www.xn--empfngnis-y2a.com/veranstaltung/haag-ner-grundkurs-g1-copy/
LOCATION:Hauptplatz 1\, Haag\, 3350\, Österreich
GEO:48.1121074;14.5658083
X-APPLE-STRUCTURED-LOCATION;VALUE=URI;X-ADDRESS=Hauptplatz 1 Haag 3350 Österreich;X-APPLE-RADIUS=500;X-TITLE=Hauptplatz 1:geo:14.5658083,48.1121074
END:VEVENT
END:VCALENDAR