BEGIN:VCALENDAR
VERSION:2.0
PRODID:-//empfängnis.com - ECPv4.6.2//NONSGML v1.0//EN
CALSCALE:GREGORIAN
METHOD:PUBLISH
X-WR-CALNAME:empfängnis.com
X-ORIGINAL-URL:http://www.xn--empfngnis-y2a.com
X-WR-CALDESC:Events for empfängnis.com
BEGIN:VEVENT
DTSTART;TZID=Europe/Berlin:20180127T093000
DTEND;TZID=Europe/Berlin:20180127T150000
DTSTAMP:20260421T141320
CREATED:20171213T122414Z
LAST-MODIFIED:20171213T122414Z
UID:2064-1517045400-1517065200@www.xn--empfngnis-y2a.com
SUMMARY:Gutes auffrischen\, Festgefahrenes lösen - Impulstag für Ehepaare
DESCRIPTION:Gutes auffrischen\, Festgefahrenes lösen\n\n\n\nSamstag\, 27. Januar 2018 – 9:30 bis 15:00\n\n\n\n\n\n\n\nDem Partner einen Tag schenken\, um wieder einmal gut ins Gespräch zu kommen\, nicht über Arbeit und den Alltag\, sondern über Wünsche\, Sehnsüchte\, über die Liebe zueiander\, über Gott. \n\n\n\n\nKosten: \n\n€ 25\,00 (pro Paar) exkl. Mittagessen\n\n\n\nReferent: \n\nDr. Helmut Prader\, Bischofsvikar für Ehe\, Familie und Lebensschutz\n\n\n\n\n\nAnmeldung und Information: bef@kirche.at oder T: 02742/324-3345\n\n\n\nVeranstaltungsart:\n\nSeminar\, Kurs\, Workshop\n\n\n\nVeranstalter:\n\nPastorale Dienste Bereich Familie\, Fachstelle Beziehung-Ehe-Familie\n\n\n\nZielgruppen: \n\n(Ehe)paare\n\n\n\n\n\nOrt: Pastorale Dienste\nKlostergasse 15\n\n3100  St. Pölten\n\n
URL:http://www.xn--empfngnis-y2a.com/veranstaltung/gutes-auffrischen-festgefahrenes-loesen-impulstag-fuer-ehepaare/
LOCATION:Klostergasse 15\, Sankt Pölten\, 3100\, Österreich
GEO:48.2067871;15.6265436
X-APPLE-STRUCTURED-LOCATION;VALUE=URI;X-ADDRESS=Klostergasse 15 Sankt Pölten 3100 Österreich;X-APPLE-RADIUS=500;X-TITLE=Klostergasse 15:geo:15.6265436,48.2067871
END:VEVENT
END:VCALENDAR