BEGIN:VCALENDAR
VERSION:2.0
PRODID:-//empfängnis.com - ECPv4.6.2//NONSGML v1.0//EN
CALSCALE:GREGORIAN
METHOD:PUBLISH
X-WR-CALNAME:empfängnis.com
X-ORIGINAL-URL:http://www.xn--empfngnis-y2a.com
X-WR-CALDESC:Events for empfängnis.com
BEGIN:VEVENT
DTSTART;TZID=Europe/Berlin:20190309T090000
DTEND;TZID=Europe/Berlin:20190309T113000
DTSTAMP:20260420T182456
CREATED:20190218T085030Z
LAST-MODIFIED:20190218T085252Z
UID:2403-1552122000-1552131000@www.xn--empfngnis-y2a.com
SUMMARY:Gut durch die Wechseljahre
DESCRIPTION:Gut durch die Wechseljahre \nsowohl als Mann als auch als Paar \n  \nKörperliche Veränderungen und seelische Empfindungen \nBeziehungsherausforderungen \n  \nTermin: Samstag\, 9.3.19 \nUhrzeit: 9-11.30 \nOrt: Pfarrhof in 3364 Neuhofen/Ybbs \nMilleniumsplatz 2 \n15 Euro / Person bzw. Paar \nAnmeldung bis 2.3. 19 \nOrganisation und Anmeldung: \nHaus der Familien\, \nFachstelle Beziehung – Ehe – Familie (Monika Endl Tel: o2742/3345) \nMaria Fuchsluger: Tel 0699 88466920 \nReferenten: Maria Fuchsluger\,  zert. INER -Mitarbeiterin \nWaltraud Fehringer\, zert. Kräuterpädagogin \n
URL:http://www.xn--empfngnis-y2a.com/veranstaltung/gut-durch-die-wechseljahre/
LOCATION:Milleniumsplatz 2\, Neuhofen/ Ybbs\, 3364\, Österreich
END:VEVENT
END:VCALENDAR