BEGIN:VCALENDAR
VERSION:2.0
PRODID:-//empfängnis.com - ECPv4.6.2//NONSGML v1.0//EN
CALSCALE:GREGORIAN
METHOD:PUBLISH
X-WR-CALNAME:empfängnis.com
X-ORIGINAL-URL:http://www.xn--empfngnis-y2a.com
X-WR-CALDESC:Events for empfängnis.com
BEGIN:VEVENT
DTSTART;TZID=Europe/Berlin:20150917T200000
DTEND;TZID=Europe/Berlin:20150917T220000
DTSTAMP:20260424T125643
CREATED:20150916T173429Z
LAST-MODIFIED:20150916T183648Z
UID:225-1442520000-1442527200@www.xn--empfngnis-y2a.com
SUMMARY:Grundkurs Natürliche Empfängnisregelung
DESCRIPTION:
URL:http://www.xn--empfngnis-y2a.com/veranstaltung/grundkurs/
LOCATION:Landstraßer Hauptstraße 58\, Kardinal Newman Zimmer\, Wien\, 1030
GEO:48.1941134;16.3953555
X-APPLE-STRUCTURED-LOCATION;VALUE=URI;X-ADDRESS=Landstraßer Hauptstraße 58 Kardinal Newman Zimmer Wien 1030;X-APPLE-RADIUS=500;X-TITLE=Landstraßer Hauptstraße 58\, Kardinal Newman Zimmer:geo:16.3953555,48.1941134
ORGANIZER;CN="Pfarre%20St.%20Rochus":MAILTO:monika. feuchtner@outlook.com
END:VEVENT
END:VCALENDAR