BEGIN:VCALENDAR
VERSION:2.0
PRODID:-//empfängnis.com - ECPv4.6.2//NONSGML v1.0//EN
CALSCALE:GREGORIAN
METHOD:PUBLISH
X-WR-CALNAME:empfängnis.com
X-ORIGINAL-URL:http://www.xn--empfngnis-y2a.com
X-WR-CALDESC:Events for empfängnis.com
BEGIN:VEVENT
DTSTART;TZID=Europe/Berlin:20210913T183000
DTEND;TZID=Europe/Berlin:20210913T210000
DTSTAMP:20260419T185917
CREATED:20210903T135623Z
LAST-MODIFIED:20210903T135623Z
UID:2776-1631557800-1631566800@www.xn--empfngnis-y2a.com
SUMMARY:Grundkurs online in 3 Teilen
DESCRIPTION:\n\n\nKursart\nGrundkurs online\n\n\nTermine\nG1 – Montag\, 13.09.2021\, 18:30 – 21:00G2 – Montag\, 04.10.2021\, 18:30 – 21:00G3 – Montag\, 18.10.2021\, 18:30 – 21:00\n\n\nAdresse\n0000 via ZOOM\n\n\nVeranstalter\nMagdalena Maderthaner\n\n\nAuskunft\nBei der Referentin\n\n\nTelefon\n0664/4368428\n\n\nE-Mail\nmaderthaner.magdalena@gmx.at\n\n\nReferent(en)\nMagdalena Maderthaner\, BA\nMutter\, Pädagogin\, Elterntrainerin\n\n\nBesonderes\nAnmeldung unbedingt erforderlich mit Postadresse\, E-Mail und Telefonnummer bis 3.9.21!\nNach Anmeldung werden die Kursunterlagen per Post zugeschickt\, ebenso der Zoom-Link. \nKosten:\n€ 100.- pro Peron\n€ 130.- pro Paar\n€ 65.- pro Student/in\, in Ausbildung ohne eig. Einkommen\ninkl. Kursunterlagen \nZusätzlich zu besorgen:\n1.: Original-Rötzer-Lehrbuch: Josef Rötzer/Elisabeth Rötzer: Natürliche Empfängnisregelung; Die sympto-thermale Methode – gesund\, sicher\, partnerschaftlich; Herder; ISBN: 978-3-451-60097-5 \n2.: Zyklo-Thermometer Geratherm basal \nBeides kann über die Referentin bezogen werden – bitte bei Anmeldung bekannt geben.\n\n\n\n
URL:http://www.xn--empfngnis-y2a.com/veranstaltung/grundkurs-online-in-3-teilen/
END:VEVENT
END:VCALENDAR