BEGIN:VCALENDAR
VERSION:2.0
PRODID:-//empfängnis.com - ECPv4.6.2//NONSGML v1.0//EN
CALSCALE:GREGORIAN
METHOD:PUBLISH
X-WR-CALNAME:empfängnis.com
X-ORIGINAL-URL:http://www.xn--empfngnis-y2a.com
X-WR-CALDESC:Events for empfängnis.com
BEGIN:VEVENT
DTSTART;TZID=Europe/Berlin:20180915T090000
DTEND;TZID=Europe/Berlin:20180915T170000
DTSTAMP:20260421T021031
CREATED:20180703T115943Z
LAST-MODIFIED:20180703T115943Z
UID:2191-1537002000-1537030800@www.xn--empfngnis-y2a.com
SUMMARY:Grundkurs NER St. Pölten\, Tageskurs
DESCRIPTION:Grundkurs NER St. Pölten\, Tageskurs\, 15.9.\, 9-17 Uhr \nDr. Barbara M. Sauberer und Angela Hiesinger \nKlostergasse 15\, Pastorale Dienste \n
URL:http://www.xn--empfngnis-y2a.com/veranstaltung/grundkurs-ner-st-poelten-tageskurs/
LOCATION:Klostergasse 15\, Sankt Pölten\, 3100\, Österreich
GEO:48.2067871;15.6265436
X-APPLE-STRUCTURED-LOCATION;VALUE=URI;X-ADDRESS=Klostergasse 15 Sankt Pölten 3100 Österreich;X-APPLE-RADIUS=500;X-TITLE=Klostergasse 15:geo:15.6265436,48.2067871
END:VEVENT
END:VCALENDAR