BEGIN:VCALENDAR
VERSION:2.0
PRODID:-//empfängnis.com - ECPv4.6.2//NONSGML v1.0//EN
CALSCALE:GREGORIAN
METHOD:PUBLISH
X-WR-CALNAME:empfängnis.com
X-ORIGINAL-URL:http://www.xn--empfngnis-y2a.com
X-WR-CALDESC:Events for empfängnis.com
BEGIN:VEVENT
DTSTART;TZID=Europe/Berlin:20211120T090000
DTEND;TZID=Europe/Berlin:20211120T180000
DTSTAMP:20260419T160912
CREATED:20210917T202459Z
LAST-MODIFIED:20210917T202459Z
UID:2820-1637398800-1637431200@www.xn--empfngnis-y2a.com
SUMMARY:Grundkurs NER Salzburg Tageskurs
DESCRIPTION:\n\n\nKursart\nGrundkurs NER\n\n\nTermine\nGT – Samstag\, 20.11.2021\, 09:00 – 18:00\n\n\nAdresse\n5020 Salzburg\, Hellbrunnerstr. 13 b\n\n\nVeranstalter\nReferat für Ehe und Familie der Erzdiözese Salzburg\n\n\nAuskunft\nAngelica Spießberger\n\n\nTelefon\n0662 8047 6734\n\n\nE-Mail\nangelica.spiessberger@familie.kirchen.net\n\n\nReferent(en)\nAngelica (BEd) und Thomas Spießberger\n\n\nBesonderes\nAnmeldung erforderlich!\nSeminarbeitrag mit Unterlagen:\nPro Person 60\,– €\nPro Ehepaar 70\,– €\n\n\n\n
URL:http://www.xn--empfngnis-y2a.com/veranstaltung/grundkurs-ner-salzburg-tageskurs/
LOCATION: Dreifaltigkeitsgasse 12\, Salzburg\, 5020\, Österreich
GEO:47.802811;13.0449422
X-APPLE-STRUCTURED-LOCATION;VALUE=URI;X-ADDRESS=Dreifaltigkeitsgasse 12 Salzburg 5020 Österreich;X-APPLE-RADIUS=500;X-TITLE=Dreifaltigkeitsgasse 12:geo:13.0449422,47.802811
END:VEVENT
END:VCALENDAR