BEGIN:VCALENDAR
VERSION:2.0
PRODID:-//empfängnis.com - ECPv4.6.2//NONSGML v1.0//EN
CALSCALE:GREGORIAN
METHOD:PUBLISH
X-WR-CALNAME:empfängnis.com
X-ORIGINAL-URL:http://www.xn--empfngnis-y2a.com
X-WR-CALDESC:Events for empfängnis.com
BEGIN:VEVENT
DTSTART;TZID=Europe/Berlin:20200125T090000
DTEND;TZID=Europe/Berlin:20200125T180000
DTSTAMP:20260420T121712
CREATED:20191120T111408Z
LAST-MODIFIED:20191120T111408Z
UID:2583-1579942800-1579975200@www.xn--empfngnis-y2a.com
SUMMARY:Grundkurs NER Krems
DESCRIPTION:Partnerschaftlich\, gesund und sicher\, nebenwirkungsfrei\, umweltbewahrend & einfach in der Anwendung \n25.1.2020 9-18:00\nWas ist Natürliche Empfängnisregelung? Natürliche Empfängnisregelung (sympto-thermale Methode nach Prof. Dr. Josef Rötzer) ist ein Weg\, der es erlaubt\, eine Schwangerschaft anzustreben oder sicher zu vermeiden. NER beruht auf der wissenschaftlichen Tatsache\, dass im Zyklus der Frau die meisten Tage unfruchtbar sind. NER kann im gesamten fruchtbaren Leben der Frau angewendet werden: • Bei regelmäßigen Zyklen • Bei unregelmäßigen Zyklen • Bei Nachtschicht • In der Stillzeit • In den Wechseljahren \nKursbeitrag inkl. Buch und Unterlagen: 60€/Person & 65€/Paar 45€ für SchülerInnen & StudentInnen\nReferenten: Christa und Rupert Haselberger zertifizierte INER-Mitarbeiter\, Sexualpädagoge www.iner.org \nPfarrsaal Krems St. Paul\, St. Paul Gasse 1\, 3500 Krems Information & Anmeldung: Angela Hiesinger Tel.: 02742 324 33 39\, E-Mail: a.hiesinger@kirche.at \n
URL:http://www.xn--empfngnis-y2a.com/veranstaltung/grundkurs-ner-krems/
LOCATION:St. Paul-Gasse 1\, Krems\, 3500\, Österreich
END:VEVENT
END:VCALENDAR