BEGIN:VCALENDAR
VERSION:2.0
PRODID:-//empfängnis.com - ECPv4.6.2//NONSGML v1.0//EN
CALSCALE:GREGORIAN
METHOD:PUBLISH
X-WR-CALNAME:empfängnis.com
X-ORIGINAL-URL:http://www.xn--empfngnis-y2a.com
X-WR-CALDESC:Events for empfängnis.com
BEGIN:VEVENT
DTSTART;TZID=Europe/Berlin:20171110T190000
DTEND;TZID=Europe/Berlin:20171110T213000
DTSTAMP:20260421T134641
CREATED:20170907T091353Z
LAST-MODIFIED:20170907T091507Z
UID:1894-1510340400-1510349400@www.xn--empfngnis-y2a.com
SUMMARY:Tulln: Grundkurs NER: Einfach genial – sympto-thermal
DESCRIPTION:Wann? Freitag\, 20. Oktober\, 10. und 24. November 2017 19.00 bis ca. 21.30 Uhr \nWo? Junges Hotel\, Marc-Aurelpark 1\, Seminarraum 2 3430 Tulln\nReferenten: Elisabeth und Johannes Hackl zertifizierte Mitarbeiter im Institut für Natürliche EmpfängnisRegelung nach Prof. Dr. med. Josef Rötzer\, www.iner.org\nNatürliche Empfängnisregelung fördert eine positive Einstellung zum Körper und Zyklus den bewussten Umgang mit der eigenen Fruchtbarkeit das partnerschaftliche Gespräch über Sexualität und ist eine echte Alternative zu „Pille\, Spirale & Co“! \nTeilnahmebeitrag incl. Kursmaterial und Buch!: € . 65\,- p.Paar\, € 60 p.P.\, Ermäßigung für SchülerInnen und StudentInnen €  45\,00\,-Anmeldung: Pastorale Dienste / Diözese St. Pölten / Bereich Familie\,     Angela Hiesinger\, Tel.: 02742/324 DW 3339     E-Mail: a.hiesinger@kirche.at \n
URL:http://www.xn--empfngnis-y2a.com/veranstaltung/grundkurs-ner-einfach-genial-sympto-thermal-copy-2/
LOCATION:Marc - Aurel - Park\, Tulln\, 3430\, Österreich
GEO:48.3331702;16.0567814
X-APPLE-STRUCTURED-LOCATION;VALUE=URI;X-ADDRESS=Marc - Aurel - Park Tulln 3430 Österreich;X-APPLE-RADIUS=500;X-TITLE=Marc - Aurel - Park:geo:16.0567814,48.3331702
END:VEVENT
END:VCALENDAR