BEGIN:VCALENDAR
VERSION:2.0
PRODID:-//empfängnis.com - ECPv4.6.2//NONSGML v1.0//EN
CALSCALE:GREGORIAN
METHOD:PUBLISH
X-WR-CALNAME:empfängnis.com
X-ORIGINAL-URL:http://www.xn--empfngnis-y2a.com
X-WR-CALDESC:Events for empfängnis.com
BEGIN:VEVENT
DTSTART;TZID=Europe/Berlin:20170522T190000
DTEND;TZID=Europe/Berlin:20170522T210000
DTSTAMP:20260421T135725
CREATED:20170502T103749Z
LAST-MODIFIED:20170502T103749Z
UID:1784-1495479600-1495486800@www.xn--empfngnis-y2a.com
SUMMARY:GRUNDKURS NATÜRLICHEN EMPFÄNGNISREGELUNG (NER)
DESCRIPTION:GRUNDKURS NATÜRLICHEN EMPFÄNGNISREGELUNG (NER)\nMontag\, 22. Mai.\, 12. und 19. Juni 2017 (3-teilig)\n2340 Mödling\, Elisabethstraße 28\, Pfarrheim\nNatürliche Empfängnisregelung fördert    eine positive Einstellung zum Körper und Zyklus    den bewussten Umgang mit der eigenen Fruchtbarkeit    das partnerschaftliche Gespräch über Sexualität\nDie NER ist gesund und sicher (PI = 0 – 0\,2!)\, nebenwirkungsfrei\, umweltbewahrend und einfach in der Anwendung!\nDenn die NER beruht auf der wissenschaftlich gesicherten Tatsache\, dass im Zyklus der Frau die meisten Tage unfruchtbar sind.\nBei Kinderwunsch hilft die NER die fruchtbare Zeit zu bestimmen!\nReferentin: Dr. Barbara M. Sauberer    zert. INER-Mitarbeiterin nach Prof.     Dr. med. Josef Rötzer\, www.iner.org\nKursbeitrag inkl. Kursunterlagen und Buch: € 65.- pro Paar\, € 60.- pro Person und € 45.- pro Student/in\nAnmeldung erforderlich!: barbara@notar-sauberer.at od. 0664 11 88 721 \n
URL:http://www.xn--empfngnis-y2a.com/veranstaltung/grundkurs-natuerlichen-empfaengnisregelung-ner-2/
LOCATION:Elisabethstrasse 28\, Mödling\, 2340\, Österreich
GEO:48.0832372;16.2823272
X-APPLE-STRUCTURED-LOCATION;VALUE=URI;X-ADDRESS=Elisabethstrasse 28 Mödling 2340 Österreich;X-APPLE-RADIUS=500;X-TITLE=Elisabethstrasse 28:geo:16.2823272,48.0832372
END:VEVENT
END:VCALENDAR