BEGIN:VCALENDAR
VERSION:2.0
PRODID:-//empfängnis.com - ECPv4.6.2//NONSGML v1.0//EN
CALSCALE:GREGORIAN
METHOD:PUBLISH
X-WR-CALNAME:empfängnis.com
X-ORIGINAL-URL:http://www.xn--empfngnis-y2a.com
X-WR-CALDESC:Events for empfängnis.com
BEGIN:VEVENT
DTSTART;TZID=Europe/Berlin:20150917T190000
DTEND;TZID=Europe/Berlin:20150917T190000
DTSTAMP:20260422T101643
CREATED:20150914T113058Z
LAST-MODIFIED:20150914T113058Z
UID:193-1442516400-1442516400@www.xn--empfngnis-y2a.com
SUMMARY:Grundkurs Natürliche Empfängnisregelung
DESCRIPTION:Referentin: Elisabeth Brandstetter\, Bad Kreuzen (OÖ) \nZiele des Grundkurses: \n\nErlernen der sympto-thermalen Methode\nZusammenhang Zyklusgeschehen und Fruchtbarkeit\nZyklusverlauf beobachten und auswerten\nBesonderheiten in der Stillzeit und in den Wechseljahren\n\nInfo und ANMELDUNG: www.kbw-brand.at \n(Einladung als PDF: 2015 GK NER Brand)\n \n
URL:http://www.xn--empfngnis-y2a.com/veranstaltung/grundkurs-natuerliche-empfaengnisregelung/
LOCATION:Werschenschlag 11\, Brand\, 3531
GEO:48.5609043;15.3143184
X-APPLE-STRUCTURED-LOCATION;VALUE=URI;X-ADDRESS=Werschenschlag 11 Brand 3531;X-APPLE-RADIUS=500;X-TITLE=Werschenschlag 11:geo:15.3143184,48.5609043
END:VEVENT
END:VCALENDAR