BEGIN:VCALENDAR
VERSION:2.0
PRODID:-//empfängnis.com - ECPv4.6.2//NONSGML v1.0//EN
CALSCALE:GREGORIAN
METHOD:PUBLISH
X-WR-CALNAME:empfängnis.com
X-ORIGINAL-URL:http://www.xn--empfngnis-y2a.com
X-WR-CALDESC:Events for empfängnis.com
BEGIN:VEVENT
DTSTART;TZID=Europe/Berlin:20181117T090000
DTEND;TZID=Europe/Berlin:20181117T170000
DTSTAMP:20260421T040342
CREATED:20180928T094213Z
LAST-MODIFIED:20180928T105217Z
UID:2216-1542445200-1542474000@www.xn--empfngnis-y2a.com
SUMMARY:Grundkurs Natürliche Empfängnisregelung - Tageskurs in Grein
DESCRIPTION:Grundkurs Natürliche\nEmpfängnisregelung – Tageskurs\nWann: Sa.\, 17. Nov. 2018 \, 9 – 17 Uhr\nWo: 4360 Grein an der Donau\, Haus St. Antonius\, Dampfschiffgasse 1\ngesund und sicher\nnebenwirkungsfrei\numweltbewahrend\nhilfreich bei Kinderwunsch\nund einfach in der Anwendung\nKosten 60\,00 € /Person und 65\,00 € /Paar\n45 € für SchülerInnen und StudentInnen\nReferenten: Christa und\nRupert Haselberger ESSP\,\nzertifizierte INER-Mitarbeiter \nFachstelle Beziehung-Ehe-Familie\n3100 St. Pölten\, Klostergasse 15\nInformation und Anmeldung: Angela Hiesinger\nT: +43 2742 324 33 39 oder E: a.hiesinger@kirche.at \n
URL:http://www.xn--empfngnis-y2a.com/veranstaltung/grundkurs-natuerliche-empfaengnisregelung-tageskurs-in-grein/
LOCATION:Klostergasse 6\, Grein an der Donau\, 4360\, Österreich
END:VEVENT
END:VCALENDAR