BEGIN:VCALENDAR
VERSION:2.0
PRODID:-//empfängnis.com - ECPv4.6.2//NONSGML v1.0//EN
CALSCALE:GREGORIAN
METHOD:PUBLISH
X-WR-CALNAME:empfängnis.com
X-ORIGINAL-URL:http://www.xn--empfngnis-y2a.com
X-WR-CALDESC:Events for empfängnis.com
BEGIN:VEVENT
DTSTART;TZID=Europe/Berlin:20160409T090000
DTEND;TZID=Europe/Berlin:20160409T180000
DTSTAMP:20260422T020524
CREATED:20160302T171304Z
LAST-MODIFIED:20160302T171304Z
UID:752-1460192400-1460224800@www.xn--empfngnis-y2a.com
SUMMARY:Grundkurs Natürliche Empfängnisregelung
DESCRIPTION:
URL:http://www.xn--empfngnis-y2a.com/veranstaltung/grundkurs-natuerliche-empfaengnisregelung-3/
LOCATION:Klostergasse 15\, 3100\, Österreich
GEO:48.2067871;15.6265436
X-APPLE-STRUCTURED-LOCATION;VALUE=URI;X-ADDRESS=Klostergasse 15 3100 Österreich;X-APPLE-RADIUS=500;X-TITLE=Klostergasse 15:geo:15.6265436,48.2067871
END:VEVENT
END:VCALENDAR