BEGIN:VCALENDAR
VERSION:2.0
PRODID:-//empfängnis.com - ECPv4.6.2//NONSGML v1.0//EN
CALSCALE:GREGORIAN
METHOD:PUBLISH
X-WR-CALNAME:empfängnis.com
X-ORIGINAL-URL:http://www.xn--empfngnis-y2a.com
X-WR-CALDESC:Events for empfängnis.com
BEGIN:VEVENT
DTSTART;TZID=Europe/Berlin:20180302T190000
DTEND;TZID=Europe/Berlin:20180302T210000
DTSTAMP:20260421T154847
CREATED:20171213T100251Z
LAST-MODIFIED:20171213T100916Z
UID:2044-1520017200-1520024400@www.xn--empfngnis-y2a.com
SUMMARY:GRUNDKURS DER NATÜRLICHEN EMPFÄNGNISREGELUNG (NER) Teil1
DESCRIPTION:Wann?               2. März\, 23.3. und 6. April 2018 \n                            19.00 bis 21.00 Uhr \nWo?                    Pfarrheim\, Kirchenplatz 2\, 3042 Würmla \n  \nReferenten:       Elisabeth und Johannes Hackl \n                            zertifizierte Mitarbeiter im \nInstitut für Natürliche EmpfängnisRegelung nach \nProf. Dr. med. Josef Rötzer\, www.iner.org \n  \nNatürliche Empfängnisregelung fördert \neine positive Einstellung zum Körper und Zyklus \nden bewussten Umgang mit der eigenen Fruchtbarkeit \ndas partnerschaftliche Gespräch über Sexualität \nund ist eine echte Alternative zu „Pille\, Spirale & Co“! \n  \nNER kommt dem Trend zur Natürlichkeit\, besonders auch im Bereich der Medikation\, nach. Die sympto-thermale Methode ist eine gesunde und sichere Alternative zu allen gängigen Verhütungsmitteln – und ganz ohne Chemie. Die Verlässlichkeit beim gut instruierten Paar übertrifft dabei jene der Pille. Bei Kinderwunsch hilft die NER die fruchtbare Zeit zu bestimmen! \n  \nTeilnahmebeitrag incl. Kursmaterial und Buch!: € 65\,- p.Paar\, \n€ 60\,00 p.Person\, Ermäßigung für SchülerInnen und \nStudentInnen € 45\,00\,– \n  \nAnmeldung: Pastorale Dienste / Diözese St. Pölten / Bereich Familie\, \nAngela Hiesinger\, Tel.: 02742/324 DW 3339 \nE-Mail: a.hiesinger@kirche.at \n
URL:http://www.xn--empfngnis-y2a.com/veranstaltung/grundkurs-der-natuerlichen-empfaengnisregelung-ner/
LOCATION:Kirchenplatz 2\, Würmla\, 3042
GEO:48.2551927;15.8591865
X-APPLE-STRUCTURED-LOCATION;VALUE=URI;X-ADDRESS=Kirchenplatz 2 Würmla 3042;X-APPLE-RADIUS=500;X-TITLE=Kirchenplatz 2:geo:15.8591865,48.2551927
END:VEVENT
END:VCALENDAR