BEGIN:VCALENDAR
VERSION:2.0
PRODID:-//empfängnis.com - ECPv4.6.2//NONSGML v1.0//EN
CALSCALE:GREGORIAN
METHOD:PUBLISH
X-WR-CALNAME:empfängnis.com
X-ORIGINAL-URL:http://www.xn--empfngnis-y2a.com
X-WR-CALDESC:Events for empfängnis.com
BEGIN:VEVENT
DTSTART;TZID=Europe/Berlin:20180611T190000
DTEND;TZID=Europe/Berlin:20180611T210000
DTSTAMP:20260421T055123
CREATED:20180417T095330Z
LAST-MODIFIED:20180417T095554Z
UID:2106-1528743600-1528750800@www.xn--empfngnis-y2a.com
SUMMARY:St. Pölten GRUNDKURS DER NATÜRLICHEN EMPFÄNGNISREGELUNG  3.Teil
DESCRIPTION:Einfach genial – sympto-thermal GRUNDKURSDER NATÜRLICHENE MPFÄNGNISREGELUNG (NER) \n Wann? Montag\, 14.5.\, 28.5. und 11. Juni 2018 19.00 bis 21.00 Uhr \nWo? Pastorale Dienste\, Florian Zimmel-Saal\, 1. Stock Klostergasse 15\, 3100 St. Pölten \nReferentin: Dr. Barbara M. Sauberer\, Biologin zertifizierte Mitarbeiterin im Institut für Natürliche EmpfängnisRegelung nach Prof. Dr. med. Josef Rötzer\, www.iner.org \nNatürliche Empfängnisregelung fördert eine positive Einstellung zum Körper und Zyklus den bewussten Umgang mit der eigenen Fruchtbarkeit das partnerschaftliche Gespräch über Sexualität und ist eine echte Alternative zu „Pille\, Spirale & Co“! NER kommt dem Trend zur Natürlichkeit\, besonders auch im Bereich der Medikation\, nach. \nDie sympto-thermale Methode ist eine gesunde und sichere Alternative zu allen gängigen Verhütungsmitteln – und ganz ohne Chemie. \nDie Verlässlichkeit beim gut instruierten Paar übertrifft dabei jene der Pille. Bei Kinderwunsch hilft die NER die fruchtbare Zeit zu bestimmen! \nTeilnahmebeitrag incl. Kursmaterial und Buch!: € 65\,00 p.Paar\, € 60\,00 p.Person\, Ermäßigung für SchülerInnen und StudentInnen € 45\,00 \nAnmeldung: Pastorale Dienste / Diözese St. Pölten / Bereich Familie\, Angela Hiesinger\, Tel.: 02742/324 DW 3339 E-Mail: a.hiesinger@kirche.at \n
URL:http://www.xn--empfngnis-y2a.com/veranstaltung/grundkurs-der-natuerlichen-empfaengnisregelung-copy-2/
END:VEVENT
END:VCALENDAR