BEGIN:VCALENDAR
VERSION:2.0
PRODID:-//empfängnis.com - ECPv4.6.2//NONSGML v1.0//EN
CALSCALE:GREGORIAN
METHOD:PUBLISH
X-WR-CALNAME:empfängnis.com
X-ORIGINAL-URL:http://www.xn--empfngnis-y2a.com
X-WR-CALDESC:Events for empfängnis.com
BEGIN:VEVENT
DTSTART;TZID=Europe/Berlin:20181105T193000
DTEND;TZID=Europe/Berlin:20181105T210000
DTSTAMP:20260420T220513
CREATED:20180928T105002Z
LAST-MODIFIED:20180928T105002Z
UID:2264-1541446200-1541451600@www.xn--empfngnis-y2a.com
SUMMARY:Grein a.d. Donau: Informationsabend NER
DESCRIPTION:\n\n\nKursart\nVortrag und Information\n\n\nTermine\nINFO – Montag\, 05.11.2018\, 19:30 – 21:00\n\n\nAdresse\n4360 Grein a.d.Donau\, Haus St. Antonius\, Klostergasse 6\n\n\nVeranstalter\nFachstelle Beziehung Ehe und Familie\n\n\nAuskunft\nAngela Hiesinger\n\n\nTelefon\n02742/324/3339\n\n\nE-Mail\na.hiesinger@kirche.at\n\n\nReferent(en)\nChrista und Rupert Haselberger\n\n\nBesonderes\nEintritt frei!\n\n\n\n
URL:http://www.xn--empfngnis-y2a.com/veranstaltung/grein-a-d-donau-informationsabend-ner/
LOCATION:Klostergasse 6\, Grein an der Donau\, 4360\, Österreich
END:VEVENT
END:VCALENDAR