BEGIN:VCALENDAR
VERSION:2.0
PRODID:-//empfängnis.com - ECPv4.6.2//NONSGML v1.0//EN
CALSCALE:GREGORIAN
METHOD:PUBLISH
X-WR-CALNAME:empfängnis.com
X-ORIGINAL-URL:http://www.xn--empfngnis-y2a.com
X-WR-CALDESC:Events for empfängnis.com
BEGIN:VEVENT
DTSTART;TZID=Europe/Berlin:20170401T090000
DTEND;TZID=Europe/Berlin:20170401T180000
DTSTAMP:20260421T170822
CREATED:20170214T094436Z
LAST-MODIFIED:20170214T094525Z
UID:1562-1491037200-1491069600@www.xn--empfngnis-y2a.com
SUMMARY:Götzis\, Multiplikatorenkurs\, A3
DESCRIPTION:\n\n\nKursart\nIntensivkurs\, Multiplikatorenkurs\n\n\nTermine\nA1 – Freitag\, 20.01.2017\, 18:00 – 21:00A1 – Samstag\, 21.01.2017\, 09:00 – 18:00A2 – Samstag\, 04.03.2017\, 09:00 – 18:00A3 – Samstag\, 01.04.2017\, 09:00 – 18:00A4 – Samstag\, 06.05.2017\, 09:00 – 18:00A5 – Samstag\, 24.06.2017\, 09:00 – 18:00A6 – Freitag\, 22.09.2017\, 18:00 – 21:00A6 – Samstag\, 23.09.2017\, 09:00 – 21:00A6 – Sonntag\, 24.09.2017\, 09:00 – 14:00\n\n\nAdresse\n6840 Götzis\, Bildungshaus St. Arbogast\, Montfortstr. 88\n\n\nVeranstalter\nEhe- und Familienzentrum Feldkirch\n\n\nAuskunft\nHubert Weißenbach Tel: 0043 5523 64600\nEmail: hubert.weissenbach@iner.org\noder beim\nEhe- und Familienzentrum Feldkirch\n\n\nTelefon\n05522 74139\n\n\nE-Mail\nefz@kath-kirche-vorarlberg.at\n\n\nReferent(en)\nMargret und Ing. Hubert Weißenbach\nElisabeth Rötzer beim Abschlusswochenende\n\n\nBesonderes\nKurskosten\n250 € / Person\, 350 € / Paar\nKursunterlagen: 45 €\nzuzüglich ev. Essens- und Übernachtungskosten\n\n\n\n
URL:http://www.xn--empfngnis-y2a.com/veranstaltung/goetzis-multiplikatorenkurs-copy/
LOCATION:Montfortstr. 88\, 6840
GEO:47.3244783;9.6400158
X-APPLE-STRUCTURED-LOCATION;VALUE=URI;X-ADDRESS=Montfortstr. 88 6840;X-APPLE-RADIUS=500;X-TITLE=Montfortstr. 88:geo:9.6400158,47.3244783
END:VEVENT
END:VCALENDAR