BEGIN:VCALENDAR
VERSION:2.0
PRODID:-//empfängnis.com - ECPv4.6.2//NONSGML v1.0//EN
CALSCALE:GREGORIAN
METHOD:PUBLISH
X-WR-CALNAME:empfängnis.com
X-ORIGINAL-URL:http://www.xn--empfngnis-y2a.com
X-WR-CALDESC:Events for empfängnis.com
BEGIN:VEVENT
DTSTART;TZID=Europe/Berlin:20170403T193000
DTEND;TZID=Europe/Berlin:20170403T220000
DTSTAMP:20260421T183955
CREATED:20170214T093404Z
LAST-MODIFIED:20170214T093452Z
UID:1555-1491247800-1491256800@www.xn--empfngnis-y2a.com
SUMMARY:Götzis\, Grundkurs NER\, G3
DESCRIPTION:\n\n\nKursart\nGrundkurs an drei Abenden\n\n\nTermine\nG1 – Montag\, 06.03.2017\, 19:30 – 22:00G2 – Montag\, 20.03.2017\, 19:30 – 22:00G2 – Montag\, 03.04.2017\, 19:30 – 22:00\n\n\nAdresse\n6840 Götzis\, Montfortstraße 88\n\n\nVeranstalter\nEhe- und Familienztentrum Feldkirch\n\n\nAuskunft\nHubert Weißenbach\nBleiche 49\n6840 Götzis\nTel. 05523 64600\nMail: hubert.weissenbach@iner.org\n\n\nTelefon\n05522 74139\n\n\nE-Mail\nefz@kath-kirche-vorarlberg.at\n\n\nReferent(en)\nConny Berchtold\n\n\nBesonderes\nAnmeldung bitte beim Ehe- und Familienzentrum Feldkirch\nTel. 05522 74139\n\n\nKurs – Nr.\n101171\n\n\n\n
URL:http://www.xn--empfngnis-y2a.com/veranstaltung/goetzis-grundkurs-ner-copy-copy/
LOCATION:Montfortstraße 88\, Götzis\, 6840\, Österreich
GEO:47.3244783;9.6400158
X-APPLE-STRUCTURED-LOCATION;VALUE=URI;X-ADDRESS=Montfortstraße 88 Götzis 6840 Österreich;X-APPLE-RADIUS=500;X-TITLE=Montfortstraße 88:geo:9.6400158,47.3244783
END:VEVENT
END:VCALENDAR