BEGIN:VCALENDAR
VERSION:2.0
PRODID:-//empfängnis.com - ECPv4.6.2//NONSGML v1.0//EN
CALSCALE:GREGORIAN
METHOD:PUBLISH
X-WR-CALNAME:empfängnis.com
X-ORIGINAL-URL:http://www.xn--empfngnis-y2a.com
X-WR-CALDESC:Events for empfängnis.com
BEGIN:VEVENT
DTSTART;TZID=Europe/Berlin:20161109T190000
DTEND;TZID=Europe/Berlin:20161109T203000
DTSTAMP:20260422T014231
CREATED:20160929T143804Z
LAST-MODIFIED:20160929T143804Z
UID:1115-1478718000-1478723400@www.xn--empfngnis-y2a.com
SUMMARY:Glückliche Kinder - Glückliche Eltern (Erziehungsvortrag)
DESCRIPTION:
URL:http://www.xn--empfngnis-y2a.com/veranstaltung/glueckliche-kinder-glueckliche-eltern-erziehungsvortrag/
LOCATION:Eybnerstraße 5\, St. Pölten\, 3100\, Österreich
GEO:48.205718;15.6305372
X-APPLE-STRUCTURED-LOCATION;VALUE=URI;X-ADDRESS=Eybnerstraße 5 St. Pölten 3100 Österreich;X-APPLE-RADIUS=500;X-TITLE=Eybnerstraße 5:geo:15.6305372,48.205718
END:VEVENT
END:VCALENDAR