BEGIN:VCALENDAR
VERSION:2.0
PRODID:-//empfängnis.com - ECPv4.6.2//NONSGML v1.0//EN
CALSCALE:GREGORIAN
METHOD:PUBLISH
X-WR-CALNAME:empfängnis.com
X-ORIGINAL-URL:http://www.xn--empfngnis-y2a.com
X-WR-CALDESC:Events for empfängnis.com
BEGIN:VEVENT
DTSTART;TZID=Europe/Berlin:20181017T193000
DTEND;TZID=Europe/Berlin:20181017T213000
DTSTAMP:20260421T020558
CREATED:20180919T115908Z
LAST-MODIFIED:20180919T120254Z
UID:2199-1539804600-1539811800@www.xn--empfngnis-y2a.com
SUMMARY:Gemeinsam verschieden sein! Paarbildung
DESCRIPTION:  \nSt. Pölten HipHaus 17. Okt. 2018 19.30 Uhr \nPflegen wir unsere Unterschiede\, damit die Anziehungskraft in der Partnerschaft erhalten bleibt. \nDie Polarität von Mann und Frau als Rückenwind: in unserer Beziehung zueinander\, in der Kindererziehung\, in unserer Gottesbeziehung \nReferenten: Fam. Zeiltlinger 0664 73878237; Bildungshaus St. Hippolyt; St. Pölten: hiphaus@kirche.at \n9 Euro pPerson/ 16 Euro / Paar \nInitiative der Schönstattbewegung \n
URL:http://www.xn--empfngnis-y2a.com/veranstaltung/gemeinsam-verschieden-sein-paarbildung/
LOCATION:Eybner Straße 5\, St. Pölten\, 3100\, Österreich
GEO:48.205718;15.6305372
X-APPLE-STRUCTURED-LOCATION;VALUE=URI;X-ADDRESS=Eybner Straße 5 St. Pölten 3100 Österreich;X-APPLE-RADIUS=500;X-TITLE=Eybner Straße 5:geo:15.6305372,48.205718
END:VEVENT
END:VCALENDAR