BEGIN:VCALENDAR
VERSION:2.0
PRODID:-//empfängnis.com - ECPv4.6.2//NONSGML v1.0//EN
CALSCALE:GREGORIAN
METHOD:PUBLISH
X-WR-CALNAME:empfängnis.com
X-ORIGINAL-URL:http://www.xn--empfngnis-y2a.com
X-WR-CALDESC:Events for empfängnis.com
BEGIN:VEVENT
DTSTART;TZID=Europe/Berlin:20190310T190000
DTEND;TZID=Europe/Berlin:20190310T213000
DTSTAMP:20260420T144905
CREATED:20190117T112233Z
LAST-MODIFIED:20190117T112233Z
UID:2359-1552244400-1552253400@www.xn--empfngnis-y2a.com
SUMMARY:Fit für Ehe - Kritzendorf
DESCRIPTION:Fit für Ehe – für Paare\, Brautleute und Ehepaare\, Kritzendorf\n10.03.2019 • 19:00 – 21:30 Uhr • Pfarre St. Vitus Kritzendorf\, Vitusplatz 1\, 3420 Kritzendorf \n6 weitere Termine siehe Folder \nEingeladen sind junge Paare\, die eine umfassende und gründliche Vorbereitung auf die Ehe suchen\, Ehepaare\, die ihre Ehe auf ein breiteres Fundament stellen wollen und Paare\, die offen für neue Horizonte sind. \nInfo bzw. Anmeldung: \nlebesmuehlbacher@christlichefamilie.at oder \npfarrkanzlei@diestiftspfarre.at \nHier zum Folder Kritzendorf_2019 \n
URL:http://www.xn--empfngnis-y2a.com/veranstaltung/fit-fuer-ehe-kritzendorf/
LOCATION:Vitusplatz 1\, Kritzendorf\, 3420\, Österreich
END:VEVENT
END:VCALENDAR