BEGIN:VCALENDAR
VERSION:2.0
PRODID:-//empfängnis.com - ECPv4.6.2//NONSGML v1.0//EN
CALSCALE:GREGORIAN
METHOD:PUBLISH
X-WR-CALNAME:empfängnis.com
X-ORIGINAL-URL:http://www.xn--empfngnis-y2a.com
X-WR-CALDESC:Events for empfängnis.com
BEGIN:VEVENT
DTSTART;TZID=Europe/Berlin:20200106T190000
DTEND;TZID=Europe/Berlin:20200106T210000
DTSTAMP:20260420T125327
CREATED:20191119T204435Z
LAST-MODIFIED:20191119T204639Z
UID:2544-1578337200-1578344400@www.xn--empfngnis-y2a.com
SUMMARY:Fit für Ehe - für Paare\, Brautleute und Ehepaare\, Köln
DESCRIPTION:Fit für Ehe – für Paare\, Brautleute und Ehepaare\, Köln\n06.01.2020 • 19:00 – 21:30 Uhr • Sitzungssaal Sankt Pantaleon\, Am Pantaleonsberg 8\, D – 50676 Köln \n5 weitere Termine siehe Flyer \nEingeladen sind junge Paare\, die eine umfassende und gründliche Vorbereitung auf die Ehe suchen\, Ehepaare\, die ihre Ehe auf ein breiteres Fundament stellen wollen und Paare\, die offen für neue Horizonte sind. \nInfo bzw. Anmeldung: \nfit-fuer-ehe@web.de oder\nper Telefon unter +49 171 2727 061 \nHier zum Folder_FitFürEhe_StPantaleon_2019 \n
URL:http://www.xn--empfngnis-y2a.com/veranstaltung/fit-fuer-ehe-fuer-paare-brautleute-und-ehepaare-koeln/
LOCATION:Am Pantaleonsberg 8\, Köln\, 50676\, Deutschland
END:VEVENT
END:VCALENDAR