BEGIN:VCALENDAR
VERSION:2.0
PRODID:-//empfängnis.com - ECPv4.6.2//NONSGML v1.0//EN
CALSCALE:GREGORIAN
METHOD:PUBLISH
X-WR-CALNAME:empfängnis.com
X-ORIGINAL-URL:http://www.xn--empfngnis-y2a.com
X-WR-CALDESC:Events for empfängnis.com
BEGIN:VEVENT
DTSTART;TZID=Europe/Berlin:20200121T193000
DTEND;TZID=Europe/Berlin:20200121T220000
DTSTAMP:20260420T121222
CREATED:20191119T205224Z
LAST-MODIFIED:20191119T205224Z
UID:2549-1579635000-1579644000@www.xn--empfngnis-y2a.com
SUMMARY:Fit für Ehe - für Paare\, Brautleute und Ehepaare\, Adnet
DESCRIPTION:Fit für Ehe – für Paare\, Brautleute und Ehepaare\, Adnet\n21.01.2020 • 19:30 – 22:00 Uhr • Pfarrhof Adnet\, Adnet 10\, 5421 Adnet \n4 weitere Termine siehe Folder \nEingeladen sind junge Paare\, die eine umfassende und gründliche Vorbereitung auf die Ehe suchen\, Ehepaare\, die ihre Ehe auf ein breiteres Fundament stellen wollen und Paare\, die offen für neue Horizonte sind. \nInfo bzw. Anmeldung: \npfarre.adnet@pfarre.kirchen.net\noder +6245 83275 \nHier zum Folder Adnet \n
URL:http://www.xn--empfngnis-y2a.com/veranstaltung/fit-fuer-ehe-fuer-paare-brautleute-und-ehepaare-adnet/
LOCATION:Adnet 10\, Adnet\, 5421\, Österreich
END:VEVENT
END:VCALENDAR