BEGIN:VCALENDAR
VERSION:2.0
PRODID:-//empfängnis.com - ECPv4.6.2//NONSGML v1.0//EN
CALSCALE:GREGORIAN
METHOD:PUBLISH
X-WR-CALNAME:empfängnis.com
X-ORIGINAL-URL:http://www.xn--empfngnis-y2a.com
X-WR-CALDESC:Events for empfängnis.com
BEGIN:VEVENT
DTSTART;TZID=Europe/Berlin:20190120T193000
DTEND;TZID=Europe/Berlin:20190120T220000
DTSTAMP:20260420T215044
CREATED:20190116T111841Z
LAST-MODIFIED:20190116T111930Z
UID:2339-1548012600-1548021600@www.xn--empfngnis-y2a.com
SUMMARY:Fit für Ehe - Ehevorbereitungskurs in Blindenmarkt
DESCRIPTION:Fit für Ehe – Damit die Liebe eine Herzenssache wird \n„Die Chance der Zukunft liegt in gelingender Partnerschaft und Familie“. \n(ab 20.1. in Blindenmarkt\, Anmeldung noch bis 17.1. möglich) \nJunge Paare\, die eine umfassende und gründliche Vorbereitung auf die Ehe suchen \nEhepaare jeden Alters\, die ihre Ehe auf ein breites Fundament stellen wollen\, \nPaare jeden Alters\, die offen für neue Horizonte sind \nThemen: \nAls Paar gelingend kommunizieren \nDie Bedeutung der Herkunftsfamilie verstehen \nDas Sakrament der Ehe als Kraftquelle entdecken \nDurch Vergebung neu beginnen \nÜber die Schönheit der Sexualität staunen \nInformation:  www.christlichefamilie.at oder www.pfarre.blindenmarkt.at \nÖsterreich\n\n\nKritzendorf bei Klosterneuburg (Nähe Wien): Folder Kritzendorf_2019\nBlindenmarkt (Nähe Amstetten): Folder Blindenmarkt 2019\nAdnet (Nähe Salzburg): Folder Adnet 2019\nStuhlfelden (Nähe Mittersill): Folder Stuhlfelden 2019\n\n\n\nDeutschland\n\n\nSt. Pantaleon (Köln): Folder St. Pantaleon 2019\n\n\n\nKontakt\nDiakon Ing. Stefan Lebesmühlbacher\nmail lebesmuehlbacher@christlichefamilie.at\nmobil +43 664 610 12 45\n\n\nKritzendorf\nTermine\n► Abend 1\nSo\, 20.01.2019 | 19.30–22.00 Uhr\n► Abend 2\nSo\, 03.02.2019 | 19.30–22.00 Uhr\n► Abend 3\nSo\, 17.02.2019 | 19.30–22.00 Uhr\n► Wochenende\nSa\, 02.03.2019 | 09.00 Uhr bis\nSo\, 03.03.2019 | 14.00 Uhr\n► Abend 4\nSo\, 17.03.2019 | 19.30–22.00 Uhr\n► Abend 5\nSo\, 31.03.2019 | 19.30–22.00 Uhr\n► Samstag\nSa\, 13.04.2019 | 15.00–20.00 Uhr\nHerzliche Einladung\, an den Sonntagen die\nhl. Messe um 18.00 Uhr in der Pfarrkirche\nBlindenmarkt mitzufeiern. Ab 17.00 Uhr\nAussetzung und stille Anbetung.\nWichtig: Dieses Seminar gilt\nfür Brautleute als\nEhevorbereitung.\nOrt\nAbend & Samstag\nGasthof Pitzl „Zur Goldenen Sonne“\n(Kaffeehaus)\nHauptstraße 38\, 3372 Blindenmarkt\nTel: +43 7473 2330\nwww.gasthof-pitzl.blindenmarkt.at\nWochenende\nFoyer de Charité\n„Haus am Sonntagberg“\n3332 Sonntagberg Nr. 6\nTel: +43 07448 3339\nkontakt@foyersonntagberg.at\nwww.foyersonntagberg.at\nKinder\nBabys sind selbstverständlich mit dabei.\nKosten\n€ 80\,– pro Person inkl. Kursunterlagen\nund Pausengetränke\n(exklusive Unterbringungs- und\nVerpflegungskosten am Wochenende)\n
URL:http://www.xn--empfngnis-y2a.com/veranstaltung/fit-fuer-ehe-ehevorbereitungskurs-in-blindenmarkt/
LOCATION:Hauptstraße 38\, Blindenmarkt\, 3372\, Österreich
END:VEVENT
END:VCALENDAR